BEGIN:VCALENDAR
VERSION:2.0
PRODID:-//ChamberMaster//Event Calendar 2.0//EN
METHOD:PUBLISH
X-PUBLISHED-TTL:P3D
REFRESH-INTERVAL:P3D
CALSCALE:GREGORIAN
BEGIN:VEVENT
DTSTART:20250502T210000Z
DTEND:20250502T230000Z
X-MICROSOFT-CDO-ALLDAYEVENT:FALSE
SUMMARY:2025 Annual Business Showcase & Regional Apprenticeship Recognition
DESCRIPTION:Our Annual Salem-Roanoke County Chamber Business Showcase and Regional Apprenticeship Recognition is the perfect opportunity to showcase what your business offers other businesses and the community\, while networking with other Chamber members and meeting new customers and clients. \n\n\n\nTicket includes one ticket to the baseball game\n\nMeal includes: 1 hot dog\; 1 hamburger\; mac and cheese\; 1 bag of chips\; 1 bottled Pepsi product\; condiments for burgers (LTO + cheese)
X-ALT-DESC;FMTTYPE=text/html:Our&nbsp\;<strong>Annual Salem-Roanoke County Chamber Business&nbsp\;Showcase and Regional Apprenticeship Recognition</strong>&nbsp\;is the perfect opportunity to&nbsp\;showcase&nbsp\;what your business offers other businesses and the community\, while networking with<span class="JsGRdQ">&nbsp\;other Chamber members and meeting new customers and clients.</span><span class="JsGRdQ white-space-prewrap">&nbsp\;</span><br />\n<br />\nTicket includes one ticket to the baseball game<br />\nMeal includes: 1 hot dog\; 1 hamburger\; mac and cheese\; 1 bag of chips\; 1 bottled Pepsi product\; condiments for burgers (LTO + cheese)
LOCATION:
UID:e.1692.7752
SEQUENCE:3
DTSTAMP:20260424T001944Z
URL:https://member.s-rcchamber.org/events/details/2025-annual-business-showcase-regional-apprenticeship-recognition-7752
END:VEVENT

END:VCALENDAR
