BEGIN:VCALENDAR
VERSION:2.0
PRODID:-//ChamberMaster//Event Calendar 2.0//EN
METHOD:PUBLISH
X-PUBLISHED-TTL:P3D
REFRESH-INTERVAL:P3D
CALSCALE:GREGORIAN
BEGIN:VEVENT
DTSTART:20251016T170000Z
DTEND:20251016T220000Z
X-MICROSOFT-CDO-ALLDAYEVENT:FALSE
SUMMARY:2025 Annual Golf Tournament
DESCRIPTION:Enjoy a spectacular day of Golf with endless Networking Opportunities\n\n\n\nGet ready to tee off in style at the 2025 Annual Golf Tournament! Swing your way through a day of sunshine\, fun\, and friendly competition as you vie for the ultimate prize: bragging rights. We're calling all golf enthusiasts   whether you're a seasoned pro or a newbie to the greens\, there's no better time to hit the links than now!\n\n\n\nJoin us for a day of putting and driving like never before at one of the most spectacular country clubs in town. So grab your clubs\, don your lucky visor\, and join us for the most exciting golf tournament of the year!\n\n\n\nTake this chance to enjoy the good time and fellowship of our Tournament and we hope to see you on the fairways!
X-ALT-DESC;FMTTYPE=text/html:Enjoy a spectacular day of Golf with endless Networking Opportunities<br />\n<br />\nGet ready to tee off in style at the 2025 Annual Golf Tournament! Swing your way through a day of sunshine\, fun\, and friendly competition as you vie for the ultimate prize: bragging rights. We&#39\;re calling all golf enthusiasts &ndash\; whether you&#39\;re a seasoned pro or a newbie to the greens\, there&#39\;s no better time to hit the links than now!<br />\n<br />\nJoin us for a day of putting and driving like never before at one of the most spectacular country clubs in town. So grab your clubs\, don your lucky visor\, and join us for the most exciting golf tournament of the year!<br />\n<br />\nTake this chance to enjoy the good time and fellowship of our Tournament and we hope to see you on the fairways!
LOCATION:Roanoke Country Club 3360 Country Club Dr. NW\, Roanoke\, VA 24017
UID:e.1692.7751
SEQUENCE:3
DTSTAMP:20260423T184622Z
URL:https://member.s-rcchamber.org/events/details/2025-annual-golf-tournament-7751
END:VEVENT

END:VCALENDAR
