BEGIN:VCALENDAR
VERSION:2.0
PRODID:-//ChamberMaster//Event Calendar 2.0//EN
METHOD:PUBLISH
X-PUBLISHED-TTL:P3D
REFRESH-INTERVAL:P3D
CALSCALE:GREGORIAN
BEGIN:VEVENT
DTSTART:20250410T160000Z
DTEND:20250410T173000Z
X-MICROSOFT-CDO-ALLDAYEVENT:FALSE
SUMMARY:2025 April LeadHERship with Sarah Bidwell
DESCRIPTION:Attorney Sarah Bidwell owns Wills on Wheels\, PLLC provides mobile estate planning and will be a featured LeadHERship speaker. Join us for this luncheon and learn about creating a will and an emergency binder
X-ALT-DESC;FMTTYPE=text/html:<p style="margin: 0px\; padding: 0px\;"><span style="font-size: 17px\; color: rgb(67\, 67\, 67)\; font-family: Helvetica\, Arial\, sans-serif\;">Attorney Sarah Bidwell owns Wills on Wheels\, PLLC provides mobile estate planning and will be a featured LeadHERship speaker. Join us for this luncheon and learn about creating a will and an emergency binder</span></p>\n
LOCATION:
UID:e.1692.7738
SEQUENCE:3
DTSTAMP:20260424T015554Z
URL:https://member.s-rcchamber.org/events/details/2025-april-leadhership-with-sarah-bidwell-7738
END:VEVENT

END:VCALENDAR
