BEGIN:VCALENDAR
VERSION:2.0
PRODID:-//ChamberMaster//Event Calendar 2.0//EN
METHOD:PUBLISH
X-PUBLISHED-TTL:P3D
REFRESH-INTERVAL:P3D
CALSCALE:GREGORIAN
BEGIN:VEVENT
DTSTART:20250220T170000Z
DTEND:20250220T183000Z
X-MICROSOFT-CDO-ALLDAYEVENT:FALSE
SUMMARY:2025 LeadHERship with Alicia Disantis
DESCRIPTION:Join us for our 1st LeadHERship workshop of 2025. It is designed for professionals and business owners who want to make an impact when there is no time to spare. Alicia will dive into the "new" types of elevator pitches\, including social media descriptions and profile images\, and share current data to help you craft a digital presence that stands out from the crowd. Alicia will also explore current stereotypes of women in business and how to overcome these hurdles.\n\n \n\nAnalyze real examples of female professionals' social media headlines and LinkedIn descriptions to see what works and what doesn't!\n\n \n\nLastly\, the workshop will cover creating your digital elevator pitch and social media headlines in real time. You will learn tips to make your elevator pitches powerful and memorable.
X-ALT-DESC;FMTTYPE=text/html:<p style="margin: 0px\; padding: 0px\; color: rgb(62\, 62\, 62)\; font-family: Arial\, Verdana\, Helvetica\, sans-serif\; font-size: 14px\; white-space-collapse: preserve\;"><span style="font-size:14px\;"><span style="font-family:arial\;"><span style="color: rgb(0\, 0\, 0)\;">Join us for our 1st LeadHERship workshop of 2025. It is designed for professionals and business owners who want to make an impact when there is no time to spare. Alicia will dive into the &quot\;new&quot\; types of elevator pitches\, including social media descriptions and profile images\, and share current data to help you craft a digital presence that stands out from the crowd. Alicia will also explore current&nbsp\;stereotypes of women in business and how to overcome these hurdles.</span></span></span></p>\n\n<p style="margin: 0px\; padding: 0px\; color: rgb(62\, 62\, 62)\; font-family: Arial\, Verdana\, Helvetica\, sans-serif\; font-size: 14px\; white-space-collapse: preserve\;">&nbsp\;</p>\n\n<p style="margin: 0px\; padding: 0px\; color: rgb(62\, 62\, 62)\; font-family: Arial\, Verdana\, Helvetica\, sans-serif\; font-size: 14px\; white-space-collapse: preserve\;"><span style="font-size:14px\;"><span style="font-family:arial\;"><span style="color: rgb(0\, 0\, 0)\;">Analyze real examples of female professionals&rsquo\; social media headlines and LinkedIn descriptions to see what works and what doesn&#39\;t!</span></span></span></p>\n\n<p style="margin: 0px\; padding: 0px\; color: rgb(62\, 62\, 62)\; font-family: Arial\, Verdana\, Helvetica\, sans-serif\; font-size: 14px\; white-space-collapse: preserve\;">&nbsp\;</p>\n\n<p style="margin: 0px\; padding: 0px\; color: rgb(62\, 62\, 62)\; font-family: Arial\, Verdana\, Helvetica\, sans-serif\; font-size: 14px\; white-space-collapse: preserve\;"><span style="font-size:14px\;"><span style="font-family:arial\;"><span style="color: rgb(0\, 0\, 0)\;">Lastly\, the workshop will cover creating your digital elevator pitch and social media headlines in real time. You will learn tips to make your elevator pitches powerful and memorable.&nbsp\;</span></span></span></p>\n
LOCATION:South County Library 6303 Merriman Rd\, Roanoke
UID:e.1692.7735
SEQUENCE:3
DTSTAMP:20260424T060012Z
URL:https://member.s-rcchamber.org/events/details/2025-leadhership-with-alicia-disantis-7735
END:VEVENT

END:VCALENDAR
