BEGIN:VCALENDAR
VERSION:2.0
PRODID:-//ChamberMaster//Event Calendar 2.0//EN
METHOD:PUBLISH
X-PUBLISHED-TTL:P3D
REFRESH-INTERVAL:P3D
CALSCALE:GREGORIAN
BEGIN:VEVENT
DTSTART:20250904T200000Z
DTEND:20250904T210000Z
X-MICROSOFT-CDO-ALLDAYEVENT:FALSE
SUMMARY:7 Brew Ribbon Cutting
DESCRIPTION:Join us for the ribbon cutting of 7 Brew Coffee's newest Salem location!\n\nThis rapidly growing drive-thru coffee chain is expanding nationwide\, and we're thrilled to welcome them to our community. Celebrate with us on Thursday\, September 4 at 4 PM and help kick off an exciting month of events!
X-ALT-DESC;FMTTYPE=text/html:<strong data-end="131" data-start="55">Join us for the ribbon cutting of 7 Brew Coffee&rsquo\;s newest Salem location!</strong><br data-end="134" data-start="131" />\nThis rapidly growing drive-thru coffee chain is expanding nationwide\, and we&rsquo\;re thrilled to welcome them to our community. Celebrate with us on <strong data-end="311" data-start="278">Thursday\, September 4 at 4 PM</strong> and help kick off an exciting month of events!
LOCATION:1251 W Main St\, Salem\, VA 24153
UID:e.1692.7819
SEQUENCE:3
DTSTAMP:20260423T184514Z
URL:https://member.s-rcchamber.org/events/details/7-brew-ribbon-cutting-7819
END:VEVENT

END:VCALENDAR
