BEGIN:VCALENDAR
VERSION:2.0
PRODID:-//ChamberMaster//Event Calendar 2.0//EN
METHOD:PUBLISH
X-PUBLISHED-TTL:P3D
REFRESH-INTERVAL:P3D
CALSCALE:GREGORIAN
BEGIN:VEVENT
DTSTART:20250417T203000Z
DTEND:20250417T220000Z
X-MICROSOFT-CDO-ALLDAYEVENT:FALSE
SUMMARY:April Business After Hours
DESCRIPTION:Join us for our April Business After Hours with CBIZ!
X-ALT-DESC;FMTTYPE=text/html:Join us for our April Business After Hours with CBIZ!
LOCATION:
UID:e.1692.7740
SEQUENCE:3
DTSTAMP:20260424T015358Z
URL:https://member.s-rcchamber.org/events/details/april-business-after-hours-7740
END:VEVENT

END:VCALENDAR
