BEGIN:VCALENDAR
VERSION:2.0
PRODID:-//ChamberMaster//Event Calendar 2.0//EN
METHOD:PUBLISH
X-PUBLISHED-TTL:P3D
REFRESH-INTERVAL:P3D
CALSCALE:GREGORIAN
BEGIN:VEVENT
DTSTART:20260310T200000Z
DTEND:20260310T210000Z
X-MICROSOFT-CDO-ALLDAYEVENT:FALSE
SUMMARY:Avid Hotel Salem - by IHG Ribbon Cutting
DESCRIPTION:Join us as we celebrate the Ribbon Cutting for Avid Hotel Salem by IHG!   Enjoy refreshments\, connect with the community\, and enter for a chance to win a free night stay. We look forward to celebrating with you!
X-ALT-DESC;FMTTYPE=text/html:<span style="font-family: Arial\, Verdana\, Helvetica\, sans-serif\; font-size: 17px\; white-space-collapse: preserve\; color: rgb(48\, 48\, 48)\;">Join us as we celebrate the Ribbon Cutting for&nbsp\;</span><span style="font-family: Arial\, Verdana\, Helvetica\, sans-serif\; font-size: 17px\; white-space-collapse: preserve\; color: rgb(48\, 48\, 48)\; font-weight: bold\;">Avid Hotel Salem by IHG</span><span style="font-family: Arial\, Verdana\, Helvetica\, sans-serif\; font-size: 17px\; white-space-collapse: preserve\; color: rgb(48\, 48\, 48)\;">! &#127872\; Enjoy refreshments\, connect with the community\, and enter for a chance to win a&nbsp\;</span><span style="font-family: Arial\, Verdana\, Helvetica\, sans-serif\; font-size: 17px\; white-space-collapse: preserve\; color: rgb(48\, 48\, 48)\; font-weight: bold\;">free night stay</span><span style="font-family: Arial\, Verdana\, Helvetica\, sans-serif\; font-size: 17px\; white-space-collapse: preserve\; color: rgb(48\, 48\, 48)\;">. We look forward to celebrating with you!</span>
LOCATION:501 Wildwood Rd. Salem
UID:e.1692.7866
SEQUENCE:3
DTSTAMP:20260423T105043Z
URL:https://member.s-rcchamber.org/events/details/avid-hotel-salem-by-ihg-ribbon-cutting-7866
END:VEVENT

END:VCALENDAR
