BEGIN:VCALENDAR
VERSION:2.0
PRODID:-//ChamberMaster//Event Calendar 2.0//EN
METHOD:PUBLISH
X-PUBLISHED-TTL:P3D
REFRESH-INTERVAL:P3D
CALSCALE:GREGORIAN
BEGIN:VEVENT
DTSTART:20250503T140000Z
DTEND:20250503T170000Z
X-MICROSOFT-CDO-ALLDAYEVENT:FALSE
SUMMARY:Brandon Oaks Auxiliary Spring Sale
DESCRIPTION:The Brandon Oaks Auxiliary is hosting a Spring Sale full of furniture including bedroom furniture\, LR furniture\, lamps\, rugs and more. We will also be selling jewelry\, housewares and glassware from the Treasure Trove as well as women's and men's clothing. The event will be held in the Community Room inside the Main Brandon Oaks building and if you would like to see the furniture you will be taken to the Cottages located on our campus. The Auxiliary is a group of volunteers whose mission is to provide additional life enriching services to the residents of the Brandon Oaks Nursing & Rehab Center and Memory Support Unit. 100% of the proceeds from this sale will go to support their mission. Hours for the sale are Friday\, May 2nd from 12 p.m. - 3 p.m. and Saturday\, May 3rd from 10 a.m. - 1 p.m. Cash or check only. This event is free and open to the public!
X-ALT-DESC;FMTTYPE=text/html:The Brandon Oaks Auxiliary is hosting a Spring Sale full of furniture including bedroom furniture\, LR furniture\, lamps\, rugs and more. We will also be selling jewelry\, housewares and glassware from the Treasure Trove as well as women&#39\;s and men&#39\;s clothing. The event will be held in the Community Room inside the Main Brandon Oaks building and if you would like to see the furniture you will be taken to the Cottages located on our campus. The Auxiliary is a group of volunteers whose mission is to provide additional life enriching services to the residents of the Brandon Oaks Nursing &amp\; Rehab Center and Memory Support Unit. 100% of the proceeds from this sale will go to support their mission. Hours for the sale are Friday\, May 2nd from 12 p.m. - 3 p.m. and Saturday\, May 3rd from 10 a.m. - 1 p.m. Cash or check only. This event is free and open to the public!
LOCATION:Brandon Oaks Life Plan Community 3804 Brandon Ave SW Roanoke\, VA 24018
UID:e.1692.7767
SEQUENCE:3
DTSTAMP:20260424T001908Z
URL:https://member.s-rcchamber.org/events/details/brandon-oaks-auxiliary-spring-sale-7767
END:VEVENT

END:VCALENDAR
