BEGIN:VCALENDAR
VERSION:2.0
PRODID:-//ChamberMaster//Event Calendar 2.0//EN
METHOD:PUBLISH
X-PUBLISHED-TTL:P3D
REFRESH-INTERVAL:P3D
CALSCALE:GREGORIAN
BEGIN:VEVENT
DTSTART:20250404T170000Z
DTEND:20250404T200000Z
X-MICROSOFT-CDO-ALLDAYEVENT:FALSE
SUMMARY:Brandon Oaks Pop Up Furniture Sale
DESCRIPTION:The Brandon Oaks Auxiliary and Marketing Department will be holding a Spring Pop Up Sale featuring lots of furniture and home accessories for sale. The event will be held in the Brandon Oaks cottages located behind the main Brandon Oaks building. Follow signs at the entrance to the Cottages. Cash or check only and items must be removed the day of the sale. 100% of the proceeds from furniture sales goes to benefit resident programs and activities at the Brandon Oaks Nursing & Rehab Center. This event is free and open to the public!
X-ALT-DESC;FMTTYPE=text/html:The Brandon Oaks Auxiliary and Marketing Department will be holding a Spring Pop Up Sale featuring lots of furniture and home accessories for sale. The event will be held in the Brandon Oaks cottages located behind the main Brandon Oaks building. Follow signs at the entrance to the Cottages. Cash or check only and items must be removed the day of the sale. 100% of the proceeds from furniture sales goes to benefit resident programs and activities at the Brandon Oaks Nursing &amp\; Rehab Center. This event is free and open to the public!
LOCATION:Brandon Oaks Life Plan Community 3804 Brandon Ave\, SW Roanoke\, VA 24018
UID:e.1692.7764
SEQUENCE:3
DTSTAMP:20260424T020006Z
URL:https://member.s-rcchamber.org/events/details/brandon-oaks-pop-up-furniture-sale-7764
END:VEVENT

END:VCALENDAR
