BEGIN:VCALENDAR
VERSION:2.0
PRODID:-//ChamberMaster//Event Calendar 2.0//EN
METHOD:PUBLISH
X-PUBLISHED-TTL:P3D
REFRESH-INTERVAL:P3D
CALSCALE:GREGORIAN
BEGIN:VEVENT
DTSTART:20240820T120000Z
DTEND:20240820T133000Z
X-MICROSOFT-CDO-ALLDAYEVENT:FALSE
SUMMARY:Business Advocacy: Breakfast with our Legislators
DESCRIPTION:Join Us for "Breakfast with Our Legislators" Featuring Congressmen Ben Cline and Morgan Griffith!\n\nDate: Tuesday\, August 20\, 2024\n\nTime: 8:00 AM - 9:30 AM\n\nLocation: Hidden Valley Country Club\n\nStart your day with insight and inspiration at our exclusive breakfast event with Congressmen Ben Cline and Morgan Griffith. This is a unique opportunity to engage directly with key policymakers\, discuss pressing issues\, and hear about the latest developments in our area.\n\nDon't miss out on this chance to connect. We look forward to seeing you there!
X-ALT-DESC;FMTTYPE=text/html:<p><strong>Join Us for &quot\;Breakfast with Our Legislators&quot\; Featuring Congressmen&nbsp\;Ben Cline and Morgan Griffith!</strong></p>\n\n<p><strong>Date:</strong>&nbsp\;Tuesday\, August 20\, 2024<br />\n<strong>Time:</strong>&nbsp\;8:00 AM - 9:30 AM<br />\n<strong>Location:</strong>&nbsp\;Hidden Valley Country Club</p>\n\n<p>Start your day with insight and inspiration at our exclusive breakfast event with Congressmen Ben Cline and Morgan Griffith. This is a unique opportunity to engage directly with&nbsp\;key policymakers\, discuss pressing issues\, and hear about the latest developments in our area.</p>\n\n<p>Don&rsquo\;t miss out on this chance to connect. We look forward to seeing you there!</p>\n
LOCATION:
UID:e.1692.7676
SEQUENCE:3
DTSTAMP:20260424T175729Z
URL:https://member.s-rcchamber.org/events/details/business-advocacy-breakfast-with-our-legislators-7676
END:VEVENT

END:VCALENDAR
