BEGIN:VCALENDAR
VERSION:2.0
PRODID:-//ChamberMaster//Event Calendar 2.0//EN
METHOD:PUBLISH
X-PUBLISHED-TTL:P3D
REFRESH-INTERVAL:P3D
CALSCALE:GREGORIAN
BEGIN:VEVENT
DTSTART:20250801T203000Z
DTEND:20250801T220000Z
X-MICROSOFT-CDO-ALLDAYEVENT:FALSE
SUMMARY:Business After Hours
DESCRIPTION:Join us for Business After Hours at the Taubman Museum of Art! Connect with fellow professionals\, enjoy light refreshments\, and explore one of the region's most iconic cultural spaces all while networking in a relaxed\, after-work setting. Don't miss this unique opportunity to mix business with art.
X-ALT-DESC;FMTTYPE=text/html:Join us for <strong data-end="124" data-start="71">Business After Hours at the Taubman Museum of Art</strong>! Connect with fellow professionals\, enjoy light refreshments\, and explore one of the region&rsquo\;s most iconic cultural spaces&mdash\;all while networking in a relaxed\, after-work setting. Don&rsquo\;t miss this unique opportunity to mix business with art.
LOCATION:Taubman Museum of Art 110 Salem Ave SE\, Roanoke\, VA 24011
UID:e.1692.7806
SEQUENCE:3
DTSTAMP:20260423T201528Z
URL:https://member.s-rcchamber.org/events/details/business-after-hours-7806
END:VEVENT

END:VCALENDAR
