BEGIN:VCALENDAR
VERSION:2.0
PRODID:-//ChamberMaster//Event Calendar 2.0//EN
METHOD:PUBLISH
X-PUBLISHED-TTL:P3D
REFRESH-INTERVAL:P3D
CALSCALE:GREGORIAN
BEGIN:VEVENT
DTSTART:20260311T203000Z
DTEND:20260311T220000Z
X-MICROSOFT-CDO-ALLDAYEVENT:FALSE
SUMMARY:Business After Hours - Big Daddy's BBQ and Sweet Shack
DESCRIPTION:Connect with fellow Chamber members while enjoying great food\, sweet treats\, and a relaxed evening at this local favorite. We're excited to celebrate and support Big Daddy's BBQ & Sweet Shack proud members of the Chamber and look forward to seeing you there!
X-ALT-DESC;FMTTYPE=text/html:<span style="color: rgb(62\, 62\, 62)\; font-family: Arial\, Verdana\, Helvetica\, sans-serif\; font-size: 17px\; white-space-collapse: preserve\;">Connect with fellow Chamber members while enjoying great food\, sweet treats\, and a relaxed evening at this local favorite. We&rsquo\;re excited to celebrate and support Big Daddy&#39\;s BBQ &amp\; Sweet Shack&mdash\;proud members of the Chamber&mdash\;and look forward to seeing you there!</span>
LOCATION:602 W 4th St\, Salem\, VA 24153
UID:e.1692.7868
SEQUENCE:3
DTSTAMP:20260423T105010Z
URL:https://member.s-rcchamber.org/events/details/business-after-hours-big-daddy-s-bbq-and-sweet-shack-7868
END:VEVENT

END:VCALENDAR
