BEGIN:VCALENDAR
VERSION:2.0
PRODID:-//ChamberMaster//Event Calendar 2.0//EN
METHOD:PUBLISH
X-PUBLISHED-TTL:P3D
REFRESH-INTERVAL:P3D
CALSCALE:GREGORIAN
BEGIN:VEVENT
DTSTART:20240522T140000Z
DTEND:20240522T150000Z
X-MICROSOFT-CDO-ALLDAYEVENT:FALSE
SUMMARY:Chamber Networking ZOOM
DESCRIPTION:Introducing our exclusive Chamber Networking Zoom --the ultimate virtual platform for professionals and business owners who seek meaningful connections without the hassle of in-person events.  Join us in the comfort of your home\, office\, or place of business\, as we bring the networking to you! Let's connect\, collaborate\, and grow together\, wherever you are.  Fellow member Joe Crandall of Valley Wealth Group will be helping to facilitate this networking call.  Join us to learn tips and participate in sharing and learning from other members.
X-ALT-DESC;FMTTYPE=text/html:Introducing our exclusive Chamber Networking Zoom --the ultimate virtual platform for professionals and business owners who seek meaningful connections without the hassle of in-person events.&nbsp\; Join us in the comfort of your home\, office\, or place of business\, as we bring the networking to you! Let&#39\;s connect\, collaborate\, and grow together\, wherever you are.&nbsp\; Fellow member Joe Crandall of Valley Wealth Group will be helping to facilitate this networking call.&nbsp\; Join us to learn tips and participate in sharing and learning from other members.&nbsp\;
LOCATION:ZOOM link will be emailed to all registrants
UID:e.1692.7649
SEQUENCE:3
DTSTAMP:20260424T214805Z
URL:https://member.s-rcchamber.org/events/details/chamber-networking-zoom-7649
END:VEVENT

END:VCALENDAR
