BEGIN:VCALENDAR
VERSION:2.0
PRODID:-//ChamberMaster//Event Calendar 2.0//EN
METHOD:PUBLISH
X-PUBLISHED-TTL:P3D
REFRESH-INTERVAL:P3D
CALSCALE:GREGORIAN
BEGIN:VEVENT
DTSTART:20250903T200000Z
DTEND:20250903T210000Z
X-MICROSOFT-CDO-ALLDAYEVENT:FALSE
SUMMARY:CIRCLE Design Studio 20th Anniversary and Ribbon Cutting
DESCRIPTION:Join us as we celebrate the ribbon cutting for CIRCLE Design Studio\, a locally owned and operated interior design firm bringing inspired spaces to life. Guests will enjoy light refreshments\, including cheese\, crackers\, fruit\, and cookies\, along with beverages provided by CIRCLE Design Studio. Copies of their Inspired Modern Living book will also be available for purchase. We look forward to celebrating this exciting addition to our business community with you!
X-ALT-DESC;FMTTYPE=text/html:<p data-end="568" data-start="52">Join us as we celebrate the ribbon cutting for <strong data-end="167" data-start="143">CIRCLE Design Studio</strong>\, a locally owned and operated interior design firm bringing inspired spaces to life. Guests will enjoy light refreshments\, including cheese\, crackers\, fruit\, and cookies\, along with beverages provided by CIRCLE Design Studio. Copies of their <em data-end="434" data-start="410">Inspired Modern Living</em> book will also be available for purchase. We look forward to celebrating this exciting addition to our business community with you!</p>\n
LOCATION:4240 Old Cave Spring Rd\, Roanoke\, VA 24018
UID:e.1692.7820
SEQUENCE:3
DTSTAMP:20260423T184621Z
URL:https://member.s-rcchamber.org/events/details/circle-design-studio-20th-anniversary-and-ribbon-cutting-7820
END:VEVENT

END:VCALENDAR
