BEGIN:VCALENDAR
VERSION:2.0
PRODID:-//ChamberMaster//Event Calendar 2.0//EN
METHOD:PUBLISH
X-PUBLISHED-TTL:P3D
REFRESH-INTERVAL:P3D
CALSCALE:GREGORIAN
BEGIN:VEVENT
DTSTART:20250919T220000Z
DTEND:20250920T000000Z
X-MICROSOFT-CDO-ALLDAYEVENT:FALSE
SUMMARY:CoComelon: Sing-A-Long LIVE
DESCRIPTION:CoComelon's favorite teacher Ms. Appleberry welcomes JJ\, his friends and YOU to come along on a Melon Patch Musical field trip! In CoComelon: Sing-A-Long LIVE\, dance and sing along with JJ\, Nina\, Cody\, Cece and all of their friends to some of your favorite bops\, including "If You're Happy and You Know It\," "Wheels on the Bus\," "Animal Dance\," "Head Shoulders Knees and Toes\," "Freeze Dance\," and many more! Jam with the fam and dance every chance you get in this new musical journey\, coming to a city near you!
X-ALT-DESC;FMTTYPE=text/html:CoComelon&rsquo\;s favorite teacher Ms. Appleberry welcomes JJ\, his friends and YOU to come along on a Melon Patch Musical field trip! In CoComelon: Sing-A-Long LIVE\, dance and sing along with JJ\, Nina\, Cody\, Cece and all of their friends to some of your favorite bops\, including &ldquo\;If You&rsquo\;re Happy and You Know It\,&rdquo\; &ldquo\;Wheels on the Bus\,&rdquo\; &ldquo\;Animal Dance\,&rdquo\; &ldquo\;Head Shoulders Knees and Toes\,&rdquo\; &ldquo\;Freeze Dance\,&rdquo\; and many more! Jam with the fam and dance every chance you get in this new musical journey\, coming to a city near you!
LOCATION:Berglund Performing Arts Theatre
UID:e.1692.7801
SEQUENCE:3
DTSTAMP:20260423T184453Z
URL:https://member.s-rcchamber.org/events/details/cocomelon-sing-a-long-live-7801
END:VEVENT

END:VCALENDAR
