BEGIN:VCALENDAR
VERSION:2.0
PRODID:-//ChamberMaster//Event Calendar 2.0//EN
METHOD:PUBLISH
X-PUBLISHED-TTL:P3D
REFRESH-INTERVAL:P3D
CALSCALE:GREGORIAN
BEGIN:VEVENT
DTSTART:20240315T233000Z
DTEND:20240316T010000Z
X-MICROSOFT-CDO-ALLDAYEVENT:FALSE
SUMMARY:Escape to Margaritaville-A tropical love story with Jimmy Buffett hits
DESCRIPTION:Don your Hawaiian shirts and kick off your flip flops for a tour of a tropical paradise led by Tully\, a part-time bartender\, part-time singer\, and full-time charmer who thinks he?s got life all figured out?until a beautiful tourist steals his heart and makes him question everything. Escape to Margaritaville! is a musical comedy featuring the most-loved Jimmy Buffett classics\, including ?Cheeseburger in Paradise?\, ?Margaritaville\,? ?It?s Five O?Clock Somewhere\,? ?Volcano\,? and many more. With a book by Emmy Award winner Greg Garcia and Emmy nominee Mike O?Malley\, this hilarious\, heartwarming musical is the party you?ve been waiting for!
X-ALT-DESC;FMTTYPE=text/html:<div style="text-align: center\;"><span style="background-color:rgb(255\, 255\, 255)\; color:rgb(99\, 99\, 99)\; font-family:open sans\,open sans\,sans-serif\; font-size:16px">Don your Hawaiian shirts and kick off your flip flops for a tour of a tropical paradise led by Tully\, a part-time bartender\, part-time singer\, and full-time charmer who thinks he?s got life all figured out?until a beautiful tourist steals his heart and makes him question everything. Escape to Margaritaville! is a musical comedy featuring the most-loved Jimmy Buffett classics\, including ?Cheeseburger in Paradise?\, ?Margaritaville\,? ?It?s Five O?Clock Somewhere\,? ?Volcano\,? and many more. With a book by Emmy Award winner Greg Garcia and Emmy nominee Mike O?Malley\, this hilarious\, heartwarming musical is the party you?ve been waiting for!</span></div>\n
LOCATION:Mill Mountain Theatre-Trinkle MainStage 1 Market Square SE Roanoke\, VA 24011
UID:e.1692.7612
SEQUENCE:3
DTSTAMP:20260425T012909Z
URL:https://member.s-rcchamber.org/events/details/escape-to-margaritaville-a-tropical-love-story-with-jimmy-buffett-hits-03-15-2024-7612
END:VEVENT

END:VCALENDAR
