BEGIN:VCALENDAR
VERSION:2.0
PRODID:-//ChamberMaster//Event Calendar 2.0//EN
METHOD:PUBLISH
X-PUBLISHED-TTL:P3D
REFRESH-INTERVAL:P3D
CALSCALE:GREGORIAN
BEGIN:VEVENT
DTSTART:20250227T213000Z
DTEND:20250227T230000Z
X-MICROSOFT-CDO-ALLDAYEVENT:FALSE
SUMMARY:February Business After Hours at the Holiday Inn at Tanglewood
DESCRIPTION:We are so excited to invite you to our February Business After Hours! Join us on Thursday\, February 27th at the Holiday Inn at Tanglewood to see their new renovations and exchange business cards with other members!
X-ALT-DESC;FMTTYPE=text/html:<span style="box-sizing: border-box\; margin: 0px\; padding: 0px\; border: 0px\; outline: 0px\; font-size: 16px\; text-size-adjust: 100%\; vertical-align: baseline\; background-image: initial\; background-position: initial\; background-size: initial\; background-repeat: initial\; background-attachment: initial\; background-origin: initial\; background-clip: initial\; white-space-collapse: preserve\; font-family: arial\; color: rgb(13\, 13\, 13)\;"><span style="box-sizing: border-box\; margin: 0px\; padding: 0px\; border: 0px\; outline: 0px\; font-size: 14px\; text-size-adjust: 100%\; vertical-align: baseline\; background: transparent\;">We are so excited to invite you to our February Business After Hours! Join us on Thursday\, February 27th at the Holiday Inn at Tanglewood to see their new renovations and exchange business cards with other members!</span></span>
LOCATION:Holiday Inn at Tanglewood 4468 Starkey Rd\, Roanoke\, VA 24018
UID:e.1692.7746
SEQUENCE:3
DTSTAMP:20260424T060012Z
URL:https://member.s-rcchamber.org/events/details/february-business-after-hours-at-the-holiday-inn-at-tanglewood-7746
END:VEVENT

END:VCALENDAR
