BEGIN:VCALENDAR
VERSION:2.0
PRODID:-//ChamberMaster//Event Calendar 2.0//EN
METHOD:PUBLISH
X-PUBLISHED-TTL:P3D
REFRESH-INTERVAL:P3D
CALSCALE:GREGORIAN
BEGIN:VEVENT
DTSTART:20260427T163000Z
DTEND:20260427T173000Z
X-MICROSOFT-CDO-ALLDAYEVENT:FALSE
SUMMARY:Good Bites. Know Your Rights. Lunch & Learn with Attorney Steve Baker
DESCRIPTION:Williams DeLoatche PC is excited to partner with Virginia Western Community College for an engaging\, real-world conversation on what every driver should know before having to learn the hard way. From practical safety insights to navigating the unexpected on the road\, this lunch and learn session is designed to leave you feeling more confident behind the wheel. This event is open to the community and attendees who register can enjoy a complimentary lunch provided by Catered to the Soul while they learn.
X-ALT-DESC;FMTTYPE=text/html:Williams DeLoatche PC is excited to partner with Virginia Western Community College for an engaging\, real-world conversation on what every driver should know before having to learn the hard way. From practical safety insights to navigating the unexpected on the road\, this lunch and learn session is designed to leave you feeling more confident behind the wheel. This event is open to the community and attendees who register can enjoy a complimentary lunch provided by Catered to the Soul while they learn.
LOCATION:Virginia Western Community College Student Life Center Room 307
UID:e.1692.7886
SEQUENCE:3
DTSTAMP:20260420T225736Z
URL:https://member.s-rcchamber.org/events/details/good-bites-know-your-rights-lunch-learn-with-attorney-steve-baker-7886
END:VEVENT

END:VCALENDAR
