BEGIN:VCALENDAR
VERSION:2.0
PRODID:-//ChamberMaster//Event Calendar 2.0//EN
METHOD:PUBLISH
X-PUBLISHED-TTL:P3D
REFRESH-INTERVAL:P3D
CALSCALE:GREGORIAN
BEGIN:VEVENT
DTSTART:20251002T200000Z
DTEND:20251002T220000Z
X-MICROSOFT-CDO-ALLDAYEVENT:FALSE
SUMMARY:Holiday Inn Tanglewood Ribbon Cutting Grand Re-Opening
DESCRIPTION:Join us for the Grand Reopening of Holiday Inn Tanglewood!  \n\nWe're excited to celebrate this refreshed and welcoming space with our community. Come see the updates\, connect with friends\, and help us mark this special occasion!
X-ALT-DESC;FMTTYPE=text/html:<strong data-end="144" data-start="82">Join us for the Grand Reopening of Holiday Inn Tanglewood!</strong> &#127881\;<br data-end="150" data-start="147" />\nWe&rsquo\;re excited to celebrate this refreshed and welcoming space with our community. Come see the updates\, connect with friends\, and help us mark this special occasion!
LOCATION:4468 Starkey Rd. Roanoke\, VA 24018
UID:e.1692.7821
SEQUENCE:3
DTSTAMP:20260423T174303Z
URL:https://member.s-rcchamber.org/events/details/holiday-inn-tanglewood-ribbon-cutting-grand-re-opening-7821
END:VEVENT

END:VCALENDAR
