BEGIN:VCALENDAR
VERSION:2.0
PRODID:-//ChamberMaster//Event Calendar 2.0//EN
METHOD:PUBLISH
X-PUBLISHED-TTL:P3D
REFRESH-INTERVAL:P3D
CALSCALE:GREGORIAN
BEGIN:VEVENT
DTSTART:20251010T123000Z
DTEND:20251010T133000Z
X-MICROSOFT-CDO-ALLDAYEVENT:FALSE
SUMMARY:Hot Worx Ribbon Cutting
DESCRIPTION:We're welcoming Hot Worx to the Chamber! Come by to grab coffee and check out their new management!
X-ALT-DESC;FMTTYPE=text/html:We&#39\;re welcoming Hot Worx to the Chamber! Come by to grab coffee and check out their new management!&nbsp\;
LOCATION:Hot Worx Studio in Towers 1044 23rd St SW. Roanoke
UID:e.1692.7833
SEQUENCE:3
DTSTAMP:20260423T174026Z
URL:https://member.s-rcchamber.org/events/details/hot-worx-ribbon-cutting-7833
END:VEVENT

END:VCALENDAR
