BEGIN:VCALENDAR
VERSION:2.0
PRODID:-//ChamberMaster//Event Calendar 2.0//EN
METHOD:PUBLISH
X-PUBLISHED-TTL:P3D
REFRESH-INTERVAL:P3D
CALSCALE:GREGORIAN
BEGIN:VEVENT
DTSTART:20250122T213000Z
DTEND:20250122T230000Z
X-MICROSOFT-CDO-ALLDAYEVENT:FALSE
SUMMARY:January Business After Hours at the Rowland Hotel
DESCRIPTION:We are so excited to invite you to the first Business After Hours of 2025! Join us on Wednesday\, January 22nd at the Rowland Hotel for a complimentary pineapple martini and a tour of the hotel!\n\nSponsorships will be available inside.
X-ALT-DESC;FMTTYPE=text/html:<span style="font-family: arial\; white-space-collapse: preserve\; background-color: rgb(255\, 255\, 255)\; color: rgb(13\, 13\, 13)\;"><span style="font-size:14px\;">We are so excited to invite you to the first Business After Hours of 2025! Join us on Wednesday\, January 22nd at the Rowland Hotel for a complimentary pineapple martini and a tour of the hotel!<br />\nSponsorships will be available inside</span>.</span><br />\n<br />\n&nbsp\;
LOCATION:The Rowland Hotel 300 E Main St\, Salem\, VA 24153
UID:e.1692.7734
SEQUENCE:3
DTSTAMP:20260424T074623Z
URL:https://member.s-rcchamber.org/events/details/january-business-after-hours-at-the-rowland-hotel-7734
END:VEVENT

END:VCALENDAR
