BEGIN:VCALENDAR
VERSION:2.0
PRODID:-//ChamberMaster//Event Calendar 2.0//EN
METHOD:PUBLISH
X-PUBLISHED-TTL:P3D
REFRESH-INTERVAL:P3D
CALSCALE:GREGORIAN
BEGIN:VEVENT
DTSTART:20240711T203000Z
DTEND:20240711T223000Z
X-MICROSOFT-CDO-ALLDAYEVENT:FALSE
SUMMARY:July Business After Hours
DESCRIPTION:Join us for an exciting evening at our upcoming Business After Hours\, hosted at Barrows Inc.\, a premier destination for high-end office furniture! We are thrilled to invite you to an evening of networking\, refreshments on July 11th at 4:30PM.\n\n \n\nWhether you're looking to make new connections\, strengthen existing relationships\, or simply unwind after a productive day\, this Business After Hours event promises to be a memorable experience. Don't miss out on this chance to network\, socialize\, and be inspired by the innovative designs at Barrows Inc.
X-ALT-DESC;FMTTYPE=text/html:<p style="margin: 0px\; padding: 0px\; color: rgb(62\, 62\, 62)\; font-family: Arial\, Verdana\, Helvetica\, sans-serif\; font-size: 14px\; white-space-collapse: preserve\;"><span style="font-size: 15px\; font-family: Roboto\, sans-serif\; color: rgb(0\, 0\, 0)\;">Join us for an exciting evening at our upcoming Business After Hours\, hosted at Barrows Inc.\, a premier destination for high-end office furniture! We are thrilled to invite you to an evening of networking\, refreshments on July 11th at 4:30PM.</span></p>\n\n<p style="margin: 0px\; padding: 0px\; color: rgb(62\, 62\, 62)\; font-family: Arial\, Verdana\, Helvetica\, sans-serif\; font-size: 14px\; white-space-collapse: preserve\;">&nbsp\;</p>\n\n<p style="margin: 0px\; padding: 0px\; color: rgb(62\, 62\, 62)\; font-family: Arial\, Verdana\, Helvetica\, sans-serif\; font-size: 14px\; white-space-collapse: preserve\;"><span style="font-size: 15px\; font-family: Roboto\, sans-serif\; color: rgb(0\, 0\, 0)\;">Whether you&#39\;re looking to make new connections\, strengthen existing relationships\, or simply unwind after a productive day\, this Business After Hours event promises to be a memorable experience. Don&rsquo\;t miss out on this chance to network\, socialize\, and be inspired by the innovative designs at Barrows Inc.</span></p>\n
LOCATION:
UID:e.1692.7656
SEQUENCE:3
DTSTAMP:20260424T203402Z
URL:https://member.s-rcchamber.org/events/details/july-business-after-hours-7656
END:VEVENT

END:VCALENDAR
