BEGIN:VCALENDAR
VERSION:2.0
PRODID:-//ChamberMaster//Event Calendar 2.0//EN
METHOD:PUBLISH
X-PUBLISHED-TTL:P3D
REFRESH-INTERVAL:P3D
CALSCALE:GREGORIAN
BEGIN:VEVENT
DTSTART:20260522T160000Z
DTEND:20260522T173000Z
X-MICROSOFT-CDO-ALLDAYEVENT:FALSE
SUMMARY:LeadHERship with Becky Freemal
DESCRIPTION:The Curiosity Advantage: The #1 Driver of Revenue\, Retention\, and Results\n\nWhat if the most powerful tool for driving your business forward isn't a new software or a marketing budget\, but a mindset you already possess?\n\nIn a survey of over 700 CEOs\, "Passionate Curiosity" was ranked as the number one predictor of success. Yet\, in the rush of daily operations\, it is often the first thing we lose. Join fCMO and Bestselling Author Becky Freemal for The Curiosity Advantage\, a session designed to prove that curiosity isn't just a "nice-to-have" it is a strategic necessity that impacts every department in your organization.\n\nIn this session\, we will uncover:\n\n\n	\n	For the Business Leader: Employee turnover costs companies ~34% of an annual salary. Find out how curiosity strengthens cross-generational teams\, increases job satisfaction\, and prevents the friction that drives talent away.\n	\n	\n	For the Marketer & Brand Builder: Discover why curiosity is the secret ingredient to a magnetic "Brand Voice." Learn how asking the right questions builds influence\, fosters likability\, and persuades customers more effectively than any sales pitch.\n	\n	\n	For the Entrepreneur: Worry constricts\, but curiosity expands. Learn how to shift your mindset from "survival mode" to "solution mode\," turning market challenges into opportunities for innovation rather than stress.\n	\n\n \n\nSee why the smartest person in the room isn't the one with the answers\, but the one asking the questions that save hours of rework and office politics.
X-ALT-DESC;FMTTYPE=text/html:<h3 dir="ltr" style="color: rgb(36\, 36\, 36)\; font-family: &quot\;Segoe UI&quot\;\, &quot\;Segoe UI Web (West European)&quot\;\, -apple-system\, BlinkMacSystemFont\, Roboto\, &quot\;Helvetica Neue&quot\;\, sans-serif\; margin-top: 0px\; margin-bottom: 0px\; line-height: 1.38\;"><span data-olk-copy-source="MessageBody" style="border: 0px\; font-style: inherit\; font-variant-ligatures: inherit\; font-variant-caps: inherit\; font-variant-numeric: normal\; font-variant-east-asian: normal\; font-variant-alternates: normal\; font-variant-position: inherit\; font-variant-emoji: inherit\; font-weight: inherit\; font-stretch: inherit\; font-size: 13pt\; line-height: inherit\; font-family: Arial\, sans-serif\; font-optical-sizing: inherit\; font-size-adjust: inherit\; font-kerning: inherit\; font-feature-settings: inherit\; font-variation-settings: inherit\; font-language-override: inherit\; margin: 0px\; padding: 0px\; vertical-align: baseline\; color: black\; background-color: transparent\;">The Curiosity Advantage: The #1 Driver of Revenue\, Retention\, and Results</span></h3>\n\n<p dir="ltr" style="color: rgb(36\, 36\, 36)\; font-family: &quot\;Segoe UI&quot\;\, &quot\;Segoe UI Web (West European)&quot\;\, -apple-system\, BlinkMacSystemFont\, Roboto\, &quot\;Helvetica Neue&quot\;\, sans-serif\; font-size: 15px\; margin-top: 0px\; margin-bottom: 0px\; line-height: 1.38\;"><span style="border: 0px\; font-style: inherit\; font-variant-ligatures: inherit\; font-variant-caps: inherit\; font-variant-numeric: normal\; font-variant-east-asian: normal\; font-variant-alternates: normal\; font-variant-position: inherit\; font-variant-emoji: inherit\; font-weight: inherit\; font-stretch: inherit\; font-size: 11pt\; line-height: inherit\; font-family: Arial\, sans-serif\; font-optical-sizing: inherit\; font-size-adjust: inherit\; font-kerning: inherit\; font-feature-settings: inherit\; font-variation-settings: inherit\; font-language-override: inherit\; margin: 0px\; padding: 0px\; vertical-align: baseline\; color: black\; background-color: transparent\;">What if the most powerful tool for driving your business forward isn&rsquo\;t a new software or a marketing budget\, but a mindset you already possess?</span></p>\n\n<p dir="ltr" style="color: rgb(36\, 36\, 36)\; font-family: &quot\;Segoe UI&quot\;\, &quot\;Segoe UI Web (West European)&quot\;\, -apple-system\, BlinkMacSystemFont\, Roboto\, &quot\;Helvetica Neue&quot\;\, sans-serif\; font-size: 15px\; margin-top: 0px\; margin-bottom: 0px\; line-height: 1.38\;"><span style="border: 0px\; font-style: inherit\; font-variant-ligatures: inherit\; font-variant-caps: inherit\; font-variant-numeric: normal\; font-variant-east-asian: normal\; font-variant-alternates: normal\; font-variant-position: inherit\; font-variant-emoji: inherit\; font-weight: inherit\; font-stretch: inherit\; font-size: 11pt\; line-height: inherit\; font-family: Arial\, sans-serif\; font-optical-sizing: inherit\; font-size-adjust: inherit\; font-kerning: inherit\; font-feature-settings: inherit\; font-variation-settings: inherit\; font-language-override: inherit\; margin: 0px\; padding: 0px\; vertical-align: baseline\; color: black\; background-color: transparent\;">In a survey of over 700 CEOs\, &quot\;Passionate Curiosity&quot\; was ranked as the number one predictor of success. Yet\, in the rush of daily operations\, it is often the first thing we lose. Join fCMO and Bestselling Author Becky Freemal for&nbsp\;</span><span style="border: 0px\; font-style: inherit\; font-variant-ligatures: inherit\; font-variant-caps: inherit\; font-variant-numeric: normal\; font-variant-east-asian: normal\; font-variant-alternates: normal\; font-variant-position: inherit\; font-variant-emoji: inherit\; font-weight: 700\; font-stretch: inherit\; font-size: 11pt\; line-height: inherit\; font-family: Arial\, sans-serif\; font-optical-sizing: inherit\; font-size-adjust: inherit\; font-kerning: inherit\; font-feature-settings: inherit\; font-variation-settings: inherit\; font-language-override: inherit\; margin: 0px\; padding: 0px\; vertical-align: baseline\; color: black\; background-color: transparent\;">The Curiosity Advantage</span><span style="border: 0px\; font-style: inherit\; font-variant-ligatures: inherit\; font-variant-caps: inherit\; font-variant-numeric: normal\; font-variant-east-asian: normal\; font-variant-alternates: normal\; font-variant-position: inherit\; font-variant-emoji: inherit\; font-weight: inherit\; font-stretch: inherit\; font-size: 11pt\; line-height: inherit\; font-family: Arial\, sans-serif\; font-optical-sizing: inherit\; font-size-adjust: inherit\; font-kerning: inherit\; font-feature-settings: inherit\; font-variation-settings: inherit\; font-language-override: inherit\; margin: 0px\; padding: 0px\; vertical-align: baseline\; color: black\; background-color: transparent\;">\, a session designed to prove that curiosity isn&rsquo\;t just a &quot\;nice-to-have&quot\;&mdash\;it is a strategic necessity that impacts every department in your organization.</span></p>\n\n<p dir="ltr" style="color: rgb(36\, 36\, 36)\; font-family: &quot\;Segoe UI&quot\;\, &quot\;Segoe UI Web (West European)&quot\;\, -apple-system\, BlinkMacSystemFont\, Roboto\, &quot\;Helvetica Neue&quot\;\, sans-serif\; font-size: 15px\; margin-top: 0px\; margin-bottom: 0px\; line-height: 1.38\;"><span style="border: 0px\; font-style: inherit\; font-variant-ligatures: inherit\; font-variant-caps: inherit\; font-variant-numeric: normal\; font-variant-east-asian: normal\; font-variant-alternates: normal\; font-variant-position: inherit\; font-variant-emoji: inherit\; font-weight: 700\; font-stretch: inherit\; font-size: 11pt\; line-height: inherit\; font-family: Arial\, sans-serif\; font-optical-sizing: inherit\; font-size-adjust: inherit\; font-kerning: inherit\; font-feature-settings: inherit\; font-variation-settings: inherit\; font-language-override: inherit\; margin: 0px\; padding: 0px\; vertical-align: baseline\; color: black\; background-color: transparent\;">In this session\, we will uncover:</span></p>\n\n<ul style="color: rgb(36\, 36\, 36)\; font-family: &quot\;Segoe UI&quot\;\, &quot\;Segoe UI Web (West European)&quot\;\, -apple-system\, BlinkMacSystemFont\, Roboto\, &quot\;Helvetica Neue&quot\;\, sans-serif\; font-size: 15px\; margin-top: 0px\; margin-bottom: 0px\;">\n	<li dir="ltr" style="color: black\; font-size: 11pt\; font-family: Arial\, sans-serif\; vertical-align: baseline\; background-color: transparent\; list-style: disc\; white-space: pre\; font-variant-numeric: normal\; font-variant-east-asian: normal\; font-variant-alternates: normal\;">\n	<p dir="ltr" role="presentation" style="margin-top: 0px\; margin-bottom: 0px\; line-height: 1.38\;"><span style="border: 0px\; font-style: inherit\; font-variant-ligatures: inherit\; font-variant-caps: inherit\; font-variant-numeric: normal\; font-variant-east-asian: normal\; font-variant-alternates: normal\; font-variant-position: inherit\; font-variant-emoji: inherit\; font-weight: 700\; font-stretch: inherit\; font-size: 11pt\; line-height: inherit\; font-family: inherit\; font-optical-sizing: inherit\; font-size-adjust: inherit\; font-kerning: inherit\; font-feature-settings: inherit\; font-variation-settings: inherit\; font-language-override: inherit\; margin: 0px\; padding: 0px\; vertical-align: baseline\; color: inherit\; background-color: transparent\;">For the Business Leader:</span><span style="border: 0px\; font-style: inherit\; font-variant-ligatures: inherit\; font-variant-caps: inherit\; font-variant-numeric: normal\; font-variant-east-asian: normal\; font-variant-alternates: normal\; font-variant-position: inherit\; font-variant-emoji: inherit\; font-weight: inherit\; font-stretch: inherit\; font-size: 11pt\; line-height: inherit\; font-family: inherit\; font-optical-sizing: inherit\; font-size-adjust: inherit\; font-kerning: inherit\; font-feature-settings: inherit\; font-variation-settings: inherit\; font-language-override: inherit\; margin: 0px\; padding: 0px\; vertical-align: baseline\; color: inherit\; background-color: transparent\;"> Employee turnover costs companies ~34% of an annual salary. Find out how curiosity strengthens cross-generational teams\, increases job satisfaction\, and prevents the friction that drives talent away.</span></p>\n	</li>\n	<li dir="ltr" style="color: black\; font-size: 11pt\; font-family: Arial\, sans-serif\; vertical-align: baseline\; background-color: transparent\; list-style: disc\; white-space: pre\; font-variant-numeric: normal\; font-variant-east-asian: normal\; font-variant-alternates: normal\;">\n	<p dir="ltr" role="presentation" style="margin-top: 0px\; margin-bottom: 0px\; line-height: 1.38\;"><span style="border: 0px\; font-style: inherit\; font-variant-ligatures: inherit\; font-variant-caps: inherit\; font-variant-numeric: normal\; font-variant-east-asian: normal\; font-variant-alternates: normal\; font-variant-position: inherit\; font-variant-emoji: inherit\; font-weight: 700\; font-stretch: inherit\; font-size: 11pt\; line-height: inherit\; font-family: inherit\; font-optical-sizing: inherit\; font-size-adjust: inherit\; font-kerning: inherit\; font-feature-settings: inherit\; font-variation-settings: inherit\; font-language-override: inherit\; margin: 0px\; padding: 0px\; vertical-align: baseline\; color: inherit\; background-color: transparent\;">For the Marketer &amp\; Brand Builder:</span><span style="border: 0px\; font-style: inherit\; font-variant-ligatures: inherit\; font-variant-caps: inherit\; font-variant-numeric: normal\; font-variant-east-asian: normal\; font-variant-alternates: normal\; font-variant-position: inherit\; font-variant-emoji: inherit\; font-weight: inherit\; font-stretch: inherit\; font-size: 11pt\; line-height: inherit\; font-family: inherit\; font-optical-sizing: inherit\; font-size-adjust: inherit\; font-kerning: inherit\; font-feature-settings: inherit\; font-variation-settings: inherit\; font-language-override: inherit\; margin: 0px\; padding: 0px\; vertical-align: baseline\; color: inherit\; background-color: transparent\;"> Discover why curiosity is the secret ingredient to a magnetic &quot\;Brand Voice.&quot\; Learn how asking the right questions builds influence\, fosters likability\, and persuades customers more effectively than any sales pitch.</span></p>\n	</li>\n	<li dir="ltr" style="color: black\; font-size: 11pt\; font-family: Arial\, sans-serif\; vertical-align: baseline\; background-color: transparent\; list-style: disc\; white-space: pre\; font-variant-numeric: normal\; font-variant-east-asian: normal\; font-variant-alternates: normal\;">\n	<p dir="ltr" role="presentation" style="margin-top: 0px\; margin-bottom: 0px\; line-height: 1.38\;"><span style="border: 0px\; font-style: inherit\; font-variant-ligatures: inherit\; font-variant-caps: inherit\; font-variant-numeric: normal\; font-variant-east-asian: normal\; font-variant-alternates: normal\; font-variant-position: inherit\; font-variant-emoji: inherit\; font-weight: 700\; font-stretch: inherit\; font-size: 11pt\; line-height: inherit\; font-family: inherit\; font-optical-sizing: inherit\; font-size-adjust: inherit\; font-kerning: inherit\; font-feature-settings: inherit\; font-variation-settings: inherit\; font-language-override: inherit\; margin: 0px\; padding: 0px\; vertical-align: baseline\; color: inherit\; background-color: transparent\;">For the Entrepreneur:</span><span style="border: 0px\; font-style: inherit\; font-variant-ligatures: inherit\; font-variant-caps: inherit\; font-variant-numeric: normal\; font-variant-east-asian: normal\; font-variant-alternates: normal\; font-variant-position: inherit\; font-variant-emoji: inherit\; font-weight: inherit\; font-stretch: inherit\; font-size: 11pt\; line-height: inherit\; font-family: inherit\; font-optical-sizing: inherit\; font-size-adjust: inherit\; font-kerning: inherit\; font-feature-settings: inherit\; font-variation-settings: inherit\; font-language-override: inherit\; margin: 0px\; padding: 0px\; vertical-align: baseline\; color: inherit\; background-color: transparent\;"> Worry constricts\, but curiosity expands. Learn how to shift your mindset from &quot\;survival mode&quot\; to &quot\;solution mode\,&quot\; turning market challenges into opportunities for innovation rather than stress.</span></p>\n	</li>\n</ul>\n&nbsp\;\n\n<p dir="ltr" style="color: rgb(36\, 36\, 36)\; font-family: &quot\;Segoe UI&quot\;\, &quot\;Segoe UI Web (West European)&quot\;\, -apple-system\, BlinkMacSystemFont\, Roboto\, &quot\;Helvetica Neue&quot\;\, sans-serif\; font-size: 15px\; margin-top: 0px\; margin-bottom: 0px\; line-height: 1.38\;"><span style="border: 0px\; font-style: inherit\; font-variant-ligatures: inherit\; font-variant-caps: inherit\; font-variant-numeric: normal\; font-variant-east-asian: normal\; font-variant-alternates: normal\; font-variant-position: inherit\; font-variant-emoji: inherit\; font-weight: inherit\; font-stretch: inherit\; font-size: 11pt\; line-height: inherit\; font-family: Arial\, sans-serif\; font-optical-sizing: inherit\; font-size-adjust: inherit\; font-kerning: inherit\; font-feature-settings: inherit\; font-variation-settings: inherit\; font-language-override: inherit\; margin: 0px\; padding: 0px\; vertical-align: baseline\; color: black\; background-color: transparent\;">See why the smartest person in the room isn&#39\;t the one with the answers\, but the one asking the questions that save hours of rework and office politics.</span></p>\n
LOCATION:Salem - RoCo Chamber 611 E Main St\, Salem
UID:e.1692.7855
SEQUENCE:3
DTSTAMP:20260422T200955Z
URL:https://member.s-rcchamber.org/events/details/leadhership-with-becky-freemal-7855
END:VEVENT

END:VCALENDAR
