BEGIN:VCALENDAR
VERSION:2.0
PRODID:-//ChamberMaster//Event Calendar 2.0//EN
METHOD:PUBLISH
X-PUBLISHED-TTL:P3D
REFRESH-INTERVAL:P3D
CALSCALE:GREGORIAN
BEGIN:VEVENT
DTSTART:20250925T160000Z
DTEND:20250925T173000Z
X-MICROSOFT-CDO-ALLDAYEVENT:FALSE
SUMMARY:LeadHERship with Dr. Holly
DESCRIPTION:Empowering Women in the Workplace: Health\, Fitness\, and Busting Fad Diets\n\nJoin us for an inspiring and informative session on women's health and fitness in the workplace. Dr. Holly will share practical tips on maintaining wellness at work\, from fitness routines to smart nutrition strategies. Plus\, we'll dive into the myths surrounding fad diets and discuss sustainable\, science-backed approaches to living healthier\, balanced lives. Don't miss this opportunity to learn how to prioritize your health without sacrificing your career goals.
X-ALT-DESC;FMTTYPE=text/html:<p data-end="635" data-start="80"><strong data-end="157" data-start="80">Empowering Women in the Workplace: Health\, Fitness\, and Busting Fad Diets</strong><br data-end="160" data-start="157" />\nJoin us for an inspiring and informative session on women&rsquo\;s health and fitness in the workplace. Dr. Holly will share practical tips on maintaining wellness at work\, from fitness routines to smart nutrition strategies. Plus\, we&#39\;ll dive into the myths surrounding fad diets and discuss sustainable\, science-backed approaches to living healthier\, balanced lives. Don&rsquo\;t miss this opportunity to learn how to prioritize your health without sacrificing your career goals.</p>\n
LOCATION:Salem-Roanoke County Chamber of Commerce 611 East Main St Salem\, VA 24153
UID:e.1692.7802
SEQUENCE:3
DTSTAMP:20260423T184422Z
URL:https://member.s-rcchamber.org/events/details/leadhership-with-dr-holly-7802
END:VEVENT

END:VCALENDAR
