BEGIN:VCALENDAR
VERSION:2.0
PRODID:-//ChamberMaster//Event Calendar 2.0//EN
METHOD:PUBLISH
X-PUBLISHED-TTL:P3D
REFRESH-INTERVAL:P3D
CALSCALE:GREGORIAN
BEGIN:VEVENT
DTSTART:20250319T203000Z
DTEND:20250319T220000Z
X-MICROSOFT-CDO-ALLDAYEVENT:FALSE
SUMMARY:March Business After Hours at Red Velocity
DESCRIPTION:Join us for our March Business After Hours with Red Velocity!
X-ALT-DESC;FMTTYPE=text/html:Join us for our March Business After Hours with Red Velocity!&nbsp\;<br />\n<br />\n<br />\n&nbsp\;
LOCATION:Red Velocity Downtown Offices 10 Campbell Ave SE\, Roanoke\, VA 24011
UID:e.1692.7749
SEQUENCE:3
DTSTAMP:20260424T032353Z
URL:https://member.s-rcchamber.org/events/details/march-business-after-hours-at-red-velocity-7749
END:VEVENT

END:VCALENDAR
