BEGIN:VCALENDAR
VERSION:2.0
PRODID:-//ChamberMaster//Event Calendar 2.0//EN
METHOD:PUBLISH
X-PUBLISHED-TTL:P3D
REFRESH-INTERVAL:P3D
CALSCALE:GREGORIAN
BEGIN:VEVENT
DTSTART:20250521T160000Z
DTEND:20250521T173000Z
X-MICROSOFT-CDO-ALLDAYEVENT:FALSE
SUMMARY:May 2025 LeadHERship with Molly Sloan
DESCRIPTION:Join Dr. Molly M. Sloan for a discussion about what it means to be a leader. In an interactive activity\, you will be encouraged to reflect on how you view yourself as a leader and the strong role the concept of "leadership" plays in our society. Following this activity\, Dr. Sloan will preview some of her emerging work investigating the connection between leader behavior and the well-being of workers.
X-ALT-DESC;FMTTYPE=text/html:<!--StartFragment--><span data-olk-copy-source="MessageBody" style="font-family: Aptos\, Aptos_EmbeddedFont\, Aptos_MSFontService\, Calibri\, Helvetica\, sans-serif\; font-size: 12pt\; color: rgb(0\, 0\, 0)\;">Join Dr. Molly M. Sloan for a discussion about what it means to be a leader. In an interactive activity\, you will be encouraged to reflect on how you view yourself as a leader and the strong role the concept of &quot\;leadership&quot\; plays in our society. Following this activity\, Dr. Sloan will preview some of her emerging work investigating the connection between leader behavior and the well-being of workers.</span><!--EndFragment-->
LOCATION:
UID:e.1692.7768
SEQUENCE:3
DTSTAMP:20260424T001927Z
URL:https://member.s-rcchamber.org/events/details/may-2025-leadhership-with-molly-sloan-7768
END:VEVENT

END:VCALENDAR
