BEGIN:VCALENDAR
VERSION:2.0
PRODID:-//ChamberMaster//Event Calendar 2.0//EN
METHOD:PUBLISH
X-PUBLISHED-TTL:P3D
REFRESH-INTERVAL:P3D
CALSCALE:GREGORIAN
BEGIN:VEVENT
DTSTART:20260203T133000Z
DTEND:20260203T143000Z
X-MICROSOFT-CDO-ALLDAYEVENT:FALSE
SUMMARY:Member Orientation
DESCRIPTION:Join our 2026 Member Orientation! This onboarding meeting will be open to all of our members who could use a refresher about the perks of being a chamber member. Coffee and Treats will be provided!
X-ALT-DESC;FMTTYPE=text/html:<p style="box-sizing: border-box\; margin: 0px\; padding: 0px\; border: 0px\; outline: 0px\; font-size: 14px\; text-size-adjust: 100%\; vertical-align: baseline\; background: transparent\; color: rgb(62\, 62\, 62)\; font-family: Arial\, Verdana\, Helvetica\, sans-serif\;"><span style="box-sizing: border-box\; margin: 0px\; padding: 0px\; border: 0px\; outline: 0px\; text-size-adjust: 100%\; vertical-align: baseline\; background: transparent\;"><span style="box-sizing: border-box\; margin: 0px\; padding: 0px\; border: 0px\; outline: 0px\; text-size-adjust: 100%\; vertical-align: baseline\; background: transparent\; color: black\; font-family: Helvetica\, Arial\, sans-serif\;">Join our 2026 Member Orientation! This onboarding meeting will be open to all of our members who could use a refresher about the perks of being a chamber member. Coffee and Treats will be provided!</span></span></p>\n\n<p style="box-sizing: border-box\; margin: 0px 0px 1rem\; padding: 0px\; border: 0px\; outline: 0px\; text-size-adjust: 100%\; vertical-align: baseline\; background: transparent\;">&nbsp\;</p>\n
LOCATION:
UID:e.1692.7849
SEQUENCE:3
DTSTAMP:20260423T120423Z
URL:https://member.s-rcchamber.org/events/details/member-orientation-7849
END:VEVENT

END:VCALENDAR
