BEGIN:VCALENDAR
VERSION:2.0
PRODID:-//ChamberMaster//Event Calendar 2.0//EN
METHOD:PUBLISH
X-PUBLISHED-TTL:P3D
REFRESH-INTERVAL:P3D
CALSCALE:GREGORIAN
BEGIN:VEVENT
DTSTART:20260519T123000Z
DTEND:20260519T133000Z
X-MICROSOFT-CDO-ALLDAYEVENT:FALSE
SUMMARY:Member Orientation
DESCRIPTION:Join our Spring Member Orientation! This onboarding meeting will be open to all of our members who could use a refresher about the perks of being a chamber member. Coffee and Treats will be provided!\n\n\n\n8:30 - 9 : Networking and Coffee \n\n9 - 9:30 : Member Information
X-ALT-DESC;FMTTYPE=text/html:<span style="color: rgb(0\, 0\, 0)\; font-family: Helvetica\, Arial\, sans-serif\; font-size: 14px\;">Join our Spring Member Orientation! This onboarding meeting will be open to all of our members who could use a refresher about the perks of being a chamber member. Coffee and Treats will be provided!<br />\n<br />\n8:30 - 9 : Networking and Coffee&nbsp\;<br />\n9 - 9:30 : Member Information&nbsp\;</span>
LOCATION:611 E Main St. Salem Salem RoCo Chamber Office
UID:e.1692.7854
SEQUENCE:3
DTSTAMP:20260422T201523Z
URL:https://member.s-rcchamber.org/events/details/member-orientation-7854
END:VEVENT

END:VCALENDAR
