BEGIN:VCALENDAR
VERSION:2.0
PRODID:-//ChamberMaster//Event Calendar 2.0//EN
METHOD:PUBLISH
X-PUBLISHED-TTL:P3D
REFRESH-INTERVAL:P3D
CALSCALE:GREGORIAN
BEGIN:VEVENT
DTSTART:20250626T230000Z
DTEND:20250628T160000Z
X-MICROSOFT-CDO-ALLDAYEVENT:FALSE
SUMMARY:Miss Virginia 2025
DESCRIPTION:Join the 90th Anniversary Celebration of the Miss Virginia Competition\, June 26-28\, at the Berglund Center. More than 60 young ladies from across the Commonwealth will compete for the titles of Miss Virginia and Miss Virginia's Teen and the chance to become Miss America and Miss America's Teen in Orlando\, FL\, in September. Delegates in both age groups will compete in the following areas of competition: Private Interview 30%. Talent or HER Story 20%. Onstage Question 10%. Health and Fitness 20%. Evening Wear 20%. All competitions begin at 7 PM.
X-ALT-DESC;FMTTYPE=text/html:Join the 90th Anniversary Celebration of the Miss Virginia Competition\, June 26-28\, at the Berglund Center. More than 60 young ladies from across the Commonwealth will compete for the titles of Miss Virginia and Miss Virginia&rsquo\;s Teen and the chance to become Miss America and Miss America&rsquo\;s Teen in Orlando\, FL\, in September. Delegates in both age groups will compete in the following areas of competition: Private Interview 30%. Talent or HER Story 20%. Onstage Question 10%. Health and Fitness 20%. Evening Wear 20%. All competitions begin at 7 PM.
LOCATION:Berglund Performing Arts Center
UID:e.1692.7792
SEQUENCE:3
DTSTAMP:20260423T224807Z
URL:https://member.s-rcchamber.org/events/details/miss-virginia-2025-7792
END:VEVENT

END:VCALENDAR
