BEGIN:VCALENDAR
VERSION:2.0
PRODID:-//ChamberMaster//Event Calendar 2.0//EN
METHOD:PUBLISH
X-PUBLISHED-TTL:P3D
REFRESH-INTERVAL:P3D
CALSCALE:GREGORIAN
BEGIN:VEVENT
DTSTART:20241024T160000Z
DTEND:20241024T173000Z
X-MICROSOFT-CDO-ALLDAYEVENT:FALSE
SUMMARY:Next Gen - Talent Acquisition as a Way of Life
DESCRIPTION:Join us for an inspiring seminar on "Talent Acquisition as a Way of Life\," presented by Bruce C. Bryan\, founder and president of 5Points Creative. Bruce is a renowned author\, entrepreneur\, and connector of people with over 20 years of experience in the television industry\, where he managed broadcast advertising departments across Michigan\, Ohio\, and Virginia.
X-ALT-DESC;FMTTYPE=text/html:Join us for an inspiring seminar on &quot\;Talent Acquisition as a Way of Life\,&quot\; presented by Bruce C. Bryan\, founder and president of 5Points Creative. Bruce is a renowned author\, entrepreneur\, and connector of people with over 20 years of experience in the television industry\, where he managed broadcast advertising departments across Michigan\, Ohio\, and Virginia.
LOCATION:
UID:e.1692.7669
SEQUENCE:3
DTSTAMP:20260424T135200Z
URL:https://member.s-rcchamber.org/events/details/next-gen-talent-acquisition-as-a-way-of-life-7669
END:VEVENT

END:VCALENDAR
