BEGIN:VCALENDAR
VERSION:2.0
PRODID:-//ChamberMaster//Event Calendar 2.0//EN
METHOD:PUBLISH
X-PUBLISHED-TTL:P3D
REFRESH-INTERVAL:P3D
CALSCALE:GREGORIAN
BEGIN:VEVENT
DTSTART:20250416T160000Z
DTEND:20250416T173000Z
X-MICROSOFT-CDO-ALLDAYEVENT:FALSE
SUMMARY:NextGen with Luke Liska
DESCRIPTION:Our NextGen series connects ambitious professionals at every level of leadership with industry experts who are shaping the future of business. The NextGen series provides cutting-edge insights across sectors and provides both the knowledge and space needed to thrive in an ever-evolving landscape. Join a community of forward-thinking leaders who aren't just preparing for the future they're creating it.\n\n \n\nNextGen with Luke Liska\n\nAI is revolutionizing marketing by enabling smarter strategies\, automating processes\, and enhancing customer engagement. This talk explores how AI is transforming content creation\, streamlining marketing activities\, and unlocking new opportunities for innovation in the digital space. Attend this luncheon to learn how to use these new tools to take your marketing to the next level.
X-ALT-DESC;FMTTYPE=text/html:<p style="margin: 0px\; padding: 0px\;"><span style="font-size: 15px\; color: rgb(29\, 28\, 29)\;">Our NextGen series connects ambitious professionals&mdash\;at every level of leadership&mdash\;with industry experts who are shaping the future of business. The NextGen series provides cutting-edge insights across sectors and provides both the knowledge and space needed to thrive in an ever-evolving landscape. Join a community of forward-thinking leaders who aren&rsquo\;t just preparing for the future&mdash\;they&rsquo\;re creating it.</span></p>\n\n<p style="margin: 0px\; padding: 0px\;">&nbsp\;</p>\n\n<p style="margin: 0px\; padding: 0px\; color: rgb(62\, 62\, 62)\; font-family: Arial\, Verdana\, Helvetica\, sans-serif\; font-size: 14px\;"><span style="font-size: 15px\; color: rgb(29\, 28\, 29)\; font-weight: bold\;">NextGen with Luke Liska</span></p>\n\n<p style="margin: 0px\; padding: 0px\; color: rgb(62\, 62\, 62)\; font-family: Arial\, Verdana\, Helvetica\, sans-serif\; font-size: 14px\;"><span style="font-size: 16px\;">AI is revolutionizing marketing by enabling smarter strategies\, automating processes\, and enhancing customer engagement. This talk explores how AI is transforming content creation\, streamlining marketing activities\, and unlocking new opportunities for innovation in the digital space. Attend this luncheon to learn how to use these new tools to take your marketing to the next level.</span></p>\n
LOCATION:Roanoke College Cregger Center\, Foyer 287 High St. Salem VA 24153
UID:e.1692.7748
SEQUENCE:3
DTSTAMP:20260424T015026Z
URL:https://member.s-rcchamber.org/events/details/nextgen-with-luke-liska-7748
END:VEVENT

END:VCALENDAR
