BEGIN:VCALENDAR
VERSION:2.0
PRODID:-//ChamberMaster//Event Calendar 2.0//EN
METHOD:PUBLISH
X-PUBLISHED-TTL:P3D
REFRESH-INTERVAL:P3D
CALSCALE:GREGORIAN
BEGIN:VEVENT
DTSTART:20251106T213000Z
DTEND:20251106T230000Z
X-MICROSOFT-CDO-ALLDAYEVENT:FALSE
SUMMARY:Nov Business After Hours--Liberty Trust Hotel @ The Vault
DESCRIPTION:Join Us for Our September Business After Hours at The Liberty Trust Hotel!\n\nUnwind and connect with fellow professionals in one of Roanoke's most stunning venues   a beautifully restored historic bank turned luxury hotel. Enjoy great food\, drinks\, and networking in a unique and elegant setting. We can't wait to see you there!
X-ALT-DESC;FMTTYPE=text/html:<p data-end="190" data-start="112"><strong data-end="190" data-start="112">Join Us for Our September Business After Hours at The Liberty Trust Hotel!</strong></p>\n\n<p data-end="337" data-start="192">Unwind and connect with fellow professionals in one of Roanoke&rsquo\;s most stunning venues &mdash\; a beautifully restored historic bank turned luxury hotel. Enjoy great food\, drinks\, and networking in a unique and elegant setting. We can&#39\;t wait to see you there!</p>\n
LOCATION:Liberty Trust Hotel 101 S Jefferson St\, Roanoke\, VA 24011
UID:e.1692.7774
SEQUENCE:3
DTSTAMP:20260423T161736Z
URL:https://member.s-rcchamber.org/events/details/nov-business-after-hours-liberty-trust-hotel-the-vault-7774
END:VEVENT

END:VCALENDAR
