BEGIN:VCALENDAR
VERSION:2.0
PRODID:-//ChamberMaster//Event Calendar 2.0//EN
METHOD:PUBLISH
X-PUBLISHED-TTL:P3D
REFRESH-INTERVAL:P3D
CALSCALE:GREGORIAN
BEGIN:VEVENT
DTSTART:20250825T150000Z
DTEND:20250825T153000Z
X-MICROSOFT-CDO-ALLDAYEVENT:FALSE
SUMMARY:Oakey's Field Pickleball Courts Ribbon Cutting
DESCRIPTION:Ribbon Cutting for the new pickleball courts at Oakey's Field \n\nBring your paddles!
X-ALT-DESC;FMTTYPE=text/html:Ribbon Cutting for the new pickleball courts at Oakey&#39\;s Field&nbsp\;<br />\nBring your paddles!
LOCATION:800 East Main St\, Salem\, Va 24153
UID:e.1692.7818
SEQUENCE:3
DTSTAMP:20260423T202449Z
URL:https://member.s-rcchamber.org/events/details/oakey-s-field-pickleball-courts-ribbon-cutting-7818
END:VEVENT

END:VCALENDAR
