BEGIN:VCALENDAR
VERSION:2.0
PRODID:-//ChamberMaster//Event Calendar 2.0//EN
METHOD:PUBLISH
X-PUBLISHED-TTL:P3D
REFRESH-INTERVAL:P3D
CALSCALE:GREGORIAN
BEGIN:VEVENT
DTSTART:20250529T220000Z
DTEND:20250530T013000Z
X-MICROSOFT-CDO-ALLDAYEVENT:FALSE
SUMMARY:RBTC TechNite - 25th Anniversary!
DESCRIPTION:Celebrate with the Roanoke Blacksburg Technology Council as we lift up our region's greatest innovators at the major 25th Anniversary TechNite Celebration! The evening will include an award ceremony unveiling awards in multiple categories including the highly regarded Hall of Fame. Celebrate regional legends as well as the best and brightest innovators driving the tech-based economy today. New and returning attendees will be warmly welcomed by live entertainment\, special guest appearances\, and a red-carpet evening followed by an after-party celebration!
X-ALT-DESC;FMTTYPE=text/html:Celebrate with the Roanoke Blacksburg Technology Council as we lift up our region&rsquo\;s greatest innovators at the major 25th Anniversary TechNite Celebration! The evening will include an award ceremony unveiling awards in multiple categories including the highly regarded Hall of Fame. Celebrate regional legends as well as the best and brightest innovators driving the tech-based economy today. New and returning attendees will be warmly welcomed by live entertainment\, special guest appearances\, and a red-carpet evening followed by an after-party celebration!
LOCATION:Beamer-Lawson Indoor Practice Facility at Virginia Tech (530 Beamer Way Blacksburg\, VA 24061)
UID:e.1692.7770
SEQUENCE:3
DTSTAMP:20260424T001629Z
URL:https://member.s-rcchamber.org/events/details/rbtc-technite-25th-anniversary-7770
END:VEVENT

END:VCALENDAR
