BEGIN:VCALENDAR
VERSION:2.0
PRODID:-//ChamberMaster//Event Calendar 2.0//EN
METHOD:PUBLISH
X-PUBLISHED-TTL:P3D
REFRESH-INTERVAL:P3D
CALSCALE:GREGORIAN
BEGIN:VEVENT
DTSTART:20260217T170000Z
DTEND:20260217T173000Z
X-MICROSOFT-CDO-ALLDAYEVENT:FALSE
SUMMARY:RetirePath Virginia: The Commonwealths Auto-IRA Program
DESCRIPTION:Virginias have a new way to save for retirement at work. RetirePath Virginia was created by state law to expand access to retirement savings. Join this free information session for an overview of the Commonwealth's automatic-enrollment\, state facilitated retirement savings program. You'll learn:   Why was RetirePath created?   How does RetirePath work?   Who can participate?   What do eligible Virginia employers need to know?   What do eligible Virginia employees need to know? Attendees have a chance to win a $50 Etsy gift card. View Terms and Conditions here\; https://www.retirepathva.com/resources/download/tc-50-etsy-gift-card-giveaway
X-ALT-DESC;FMTTYPE=text/html:Virginias have a new way to save for retirement at work. RetirePath Virginia was created by state law to expand access to retirement savings. Join this free information session for an overview of the Commonwealth&rsquo\;s automatic-enrollment\, state facilitated retirement savings program. You&rsquo\;ll learn: &bull\; Why was RetirePath created? &bull\; How does RetirePath work? &bull\; Who can participate? &bull\; What do eligible Virginia employers need to know? &bull\; What do eligible Virginia employees need to know? Attendees have a chance to win a $50 Etsy gift card. View Terms and Conditions here\; https://www.retirepathva.com/resources/download/tc-50-etsy-gift-card-giveaway
LOCATION:Virtual
UID:e.1692.7867
SEQUENCE:3
DTSTAMP:20260423T121259Z
URL:https://member.s-rcchamber.org/events/details/retirepath-virginia-the-commonwealths-auto-ira-program-7867
END:VEVENT

END:VCALENDAR
