BEGIN:VCALENDAR
VERSION:2.0
PRODID:-//ChamberMaster//Event Calendar 2.0//EN
METHOD:PUBLISH
X-PUBLISHED-TTL:P3D
REFRESH-INTERVAL:P3D
CALSCALE:GREGORIAN
BEGIN:VEVENT
DTSTART:20250610T123000Z
DTEND:20250610T140000Z
X-MICROSOFT-CDO-ALLDAYEVENT:FALSE
SUMMARY:Ribbon Cutting at Cortex Leadership Consulting
DESCRIPTION:Join us to celebrate Cortex Leadership Consulting's new renovations at the Grandin CoLab!
X-ALT-DESC;FMTTYPE=text/html:<p style="margin: 0px\; padding: 0px\;"><span style="font-size:14px\;"><span style="font-family: Helvetica\, Arial\, sans-serif\;">Join us to celebrate Cortex Leadership Consulting&#39\;s new renovations at the Grandin CoLab!</span></span></p>\n\n<p style="margin: 0px\; padding: 0px\;">&nbsp\;</p>\n
LOCATION:1327 Grandin Rd SW\, Roanoke\, VA 24015 Grandin CoLab
UID:e.1692.7775
SEQUENCE:3
DTSTAMP:20260423T225025Z
URL:https://member.s-rcchamber.org/events/details/ribbon-cutting-at-cortex-leadership-consulting-7775
END:VEVENT

END:VCALENDAR
