BEGIN:VCALENDAR
VERSION:2.0
PRODID:-//ChamberMaster//Event Calendar 2.0//EN
METHOD:PUBLISH
X-PUBLISHED-TTL:P3D
REFRESH-INTERVAL:P3D
CALSCALE:GREGORIAN
BEGIN:VEVENT
DTSTART:20250730T200000Z
DTEND:20250730T213000Z
X-MICROSOFT-CDO-ALLDAYEVENT:FALSE
SUMMARY:Ribbon Cutting Valleydale Apartments
DESCRIPTION:Take convenience to a new level with help from our beautiful interiors at Valleydale luxury Apartments. Enjoy coming home to a beautiful apartment with all the extras you deserve! Join us in welcoming Valleydale Apartments to Salem!
X-ALT-DESC;FMTTYPE=text/html:<span style="font-size: 14px\; white-space-collapse: preserve\; font-family: Roboto\, sans-serif\; color: rgb(71\, 71\, 71)\;">Take convenience to a new level with help from our beautiful interiors at Valleydale luxury Apartments. Enjoy coming home to a beautiful&nbsp\;</span><span style="font-size: 14px\; white-space-collapse: preserve\; font-family: Roboto\, sans-serif\; color: rgb(118\, 118\, 118)\;">apartment</span><span style="font-size: 14px\; white-space-collapse: preserve\; font-family: Roboto\, sans-serif\; color: rgb(71\, 71\, 71)\;">&nbsp\;with all the extras you deserve! Join us in welcoming Valleydale Apartments to Salem!</span>
LOCATION:928 Ohio Ave.\, Salem\, VA\, 24153
UID:e.1692.7776
SEQUENCE:3
DTSTAMP:20260423T225025Z
URL:https://member.s-rcchamber.org/events/details/ribbon-cutting-valleydale-apartments-7776
END:VEVENT

END:VCALENDAR
