BEGIN:VCALENDAR
VERSION:2.0
PRODID:-//ChamberMaster//Event Calendar 2.0//EN
METHOD:PUBLISH
X-PUBLISHED-TTL:P3D
REFRESH-INTERVAL:P3D
CALSCALE:GREGORIAN
BEGIN:VEVENT
DTSTART:20260313T150000Z
DTEND:20260313T170000Z
X-MICROSOFT-CDO-ALLDAYEVENT:FALSE
SUMMARY:Roanoke College Kim Kyusik Center Ribbon Cutting
DESCRIPTION:Join us as we celebrate the new Center for Korean Studies with a special \n\nprogram at 11:00 a.m. Refreshments and Networking following.\n\n\n\nSpecial Guests\n\nHer Excellency Kang Kyung-wha \n\nAmbassador of the Republic of Korea \n\nMoon Inseok\n\nMinister & Consul General\, Korean Embassy of the US\n\nGilhyun Lee\n\nPatriots and Veterans Attache\, Embassy of the Republic of Korea\n\nDr. Soo-Oak Kim\n\nFamily of Kim Kyusik
X-ALT-DESC;FMTTYPE=text/html:Join us as we celebrate the new Center for Korean Studies with a special&nbsp\;<br />\nprogram at 11:00 a.m. Refreshments and Networking following.<br />\n<br />\nSpecial Guests<br />\nHer Excellency Kang Kyung-wha&nbsp\;<br />\nAmbassador of the Republic of Korea&nbsp\;<br />\nMoon Inseok<br />\nMinister &amp\; Consul General\, Korean Embassy of the US<br />\nGilhyun Lee<br />\nPatriots and Veterans Attache\, Embassy of the Republic of Korea<br />\nDr. Soo-Oak Kim<br />\nFamily of Kim Kyusik
LOCATION:Roanoke College Bank Building 223 East Main St.
UID:e.1692.7872
SEQUENCE:3
DTSTAMP:20260423T105227Z
URL:https://member.s-rcchamber.org/events/details/roanoke-college-kim-kyusik-center-ribbon-cutting-7872
END:VEVENT

END:VCALENDAR
