BEGIN:VCALENDAR
VERSION:2.0
PRODID:-//ChamberMaster//Event Calendar 2.0//EN
METHOD:PUBLISH
X-PUBLISHED-TTL:P3D
REFRESH-INTERVAL:P3D
CALSCALE:GREGORIAN
BEGIN:VEVENT
DTSTART:20250916T000000Z
DTEND:20250916T030000Z
X-MICROSOFT-CDO-ALLDAYEVENT:FALSE
SUMMARY:Ryan Adams: Heartbreaker ’25 World Tour
DESCRIPTION:Ryan Adams is a seven-time Grammy nominated singer-songwriter praised as "one of rock's most talented songwriters". Formerly fronting rock-americana groups Whiskeytown and Ryan Adams & the Cardinals\, Adams has the ability to connect with audiences across a variety of different mediums.
X-ALT-DESC;FMTTYPE=text/html:Ryan Adams is a seven-time Grammy nominated singer-songwriter praised as &ldquo\;one of rock&rsquo\;s most talented songwriters&rdquo\;. Formerly fronting rock-americana groups Whiskeytown and Ryan Adams &amp\; the Cardinals\, Adams has the ability to connect with audiences across a variety of different mediums.
LOCATION:Berglund Performing Arts Theater
UID:e.1692.7799
SEQUENCE:3
DTSTAMP:20260423T184741Z
URL:https://member.s-rcchamber.org/events/details/ryan-adams-heartbreaker-25-world-tour-7799
END:VEVENT

END:VCALENDAR
