BEGIN:VCALENDAR
VERSION:2.0
PRODID:-//ChamberMaster//Event Calendar 2.0//EN
METHOD:PUBLISH
X-PUBLISHED-TTL:P3D
REFRESH-INTERVAL:P3D
CALSCALE:GREGORIAN
BEGIN:VEVENT
DTSTART:20251006T210000Z
DTEND:20251006T220000Z
X-MICROSOFT-CDO-ALLDAYEVENT:FALSE
SUMMARY:Salem Golf Simulator Ribbon Cutting
DESCRIPTION:Come welcome this amazing new business to our community!!
X-ALT-DESC;FMTTYPE=text/html:Come welcome this amazing new business to our community!!&nbsp\;
LOCATION:200 E. Fourth St\, Salem
UID:e.1692.7832
SEQUENCE:3
DTSTAMP:20260423T173918Z
URL:https://member.s-rcchamber.org/events/details/salem-golf-simulator-ribbon-cutting-7832
END:VEVENT

END:VCALENDAR
