BEGIN:VCALENDAR
VERSION:2.0
PRODID:-//ChamberMaster//Event Calendar 2.0//EN
METHOD:PUBLISH
X-PUBLISHED-TTL:P3D
REFRESH-INTERVAL:P3D
CALSCALE:GREGORIAN
BEGIN:VEVENT
DTSTART:20250424T153000Z
DTEND:20250424T170000Z
X-MICROSOFT-CDO-ALLDAYEVENT:FALSE
SUMMARY:Ship Salem Ribbon Cutting
DESCRIPTION:Join us in welcoming Ship Salem to Salem! Beverages and snacks will be provided
X-ALT-DESC;FMTTYPE=text/html:Join us in welcoming Ship Salem to Salem! Beverages and snacks will be provided
LOCATION:115 Roanoke Blvd Salem\, VA\,24153
UID:e.1692.7765
SEQUENCE:3
DTSTAMP:20260424T015359Z
URL:https://member.s-rcchamber.org/events/details/ship-salem-ribbon-cutting-7765
END:VEVENT

END:VCALENDAR
