BEGIN:VCALENDAR
VERSION:2.0
PRODID:-//ChamberMaster//Event Calendar 2.0//EN
METHOD:PUBLISH
X-PUBLISHED-TTL:P3D
REFRESH-INTERVAL:P3D
CALSCALE:GREGORIAN
BEGIN:VEVENT
DTSTART:20250409T123000Z
DTEND:20250409T140000Z
X-MICROSOFT-CDO-ALLDAYEVENT:FALSE
SUMMARY:Spring Member Orientation
DESCRIPTION:We are introducing our first Member Orientation of the year! This spring onboarding meeting will be open to all of our members who could use a refresher about the perks of being a chamber member. Coffee and treats will be provided!\n\n \n\nThis will be a quarterly event\, so if you're unable to make it to this orientation\, our next is scheduled for August 28th\, at 8:30 AM so be sure to add it to your calendar!\n\n \n\nWith the initiation of this new event there comes new SPONSORSHIP OPPORTUNITIES!\n\n \n\nWe currently have these sponsorships available:\n\n \n\nTitle Sponsor - $1\,000\n\n\n	Recognition on ALL marketing materials\n	Recognition on ALL slideshows\n	Recognition on the series social media posts\n\n\n \n\nCoffee Sponsor\, 3/3 available - $350\n\n\n	Ability to brand the coffee table area using your logo and other marketing material\n	Recognition on slideshow\n	Recognition on event webpage and social media\n\n\n \n\nBusiness Spotlight & Toast\, 3/3 available - $400\n\n\n	Ability to present a 2-minute business spotlight\n	Recognition on slideshow\n	Recognition on social media\n\n\n\n\nemail info@s-rcchamber.org to claim a sponsorship!
X-ALT-DESC;FMTTYPE=text/html:<p style="margin: 0px\; padding: 0px\; color: rgb(62\, 62\, 62)\; font-family: Arial\, Verdana\, Helvetica\, sans-serif\; font-size: 14px\; background-color: rgb(255\, 255\, 255)\;"><span style="font-size: 17px\; color: black\; font-family: Helvetica\, Arial\, sans-serif\;">We are introducing our first Member Orientation of the year! This spring onboarding meeting will be open to all of our members who could use a refresher about the perks of being a chamber member. Coffee and treats will be provided!</span></p>\n\n<p style="margin: 0px\; padding: 0px\; color: rgb(62\, 62\, 62)\; font-family: Arial\, Verdana\, Helvetica\, sans-serif\; font-size: 14px\; background-color: rgb(255\, 255\, 255)\;">&nbsp\;</p>\n\n<p style="margin: 0px\; padding: 0px\; color: rgb(62\, 62\, 62)\; font-family: Arial\, Verdana\, Helvetica\, sans-serif\; font-size: 14px\; background-color: rgb(255\, 255\, 255)\;"><span style="font-size: 17px\; color: black\; font-family: Helvetica\, Arial\, sans-serif\;">This will be a quarterly event\, so if you&#39\;re unable to make it to this orientation\, our next is scheduled for August 28th\, at 8:30 AM so be sure to add it to your calendar!</span></p>\n\n<p style="margin: 0px\; padding: 0px\; color: rgb(62\, 62\, 62)\; font-family: Arial\, Verdana\, Helvetica\, sans-serif\; font-size: 14px\; background-color: rgb(255\, 255\, 255)\;">&nbsp\;</p>\n\n<p style="margin: 0px\; padding: 0px\; color: rgb(62\, 62\, 62)\; font-family: Arial\, Verdana\, Helvetica\, sans-serif\; font-size: 14px\; background-color: rgb(255\, 255\, 255)\;"><span style="font-size: 17px\; color: rgb(0\, 0\, 0)\; font-family: Helvetica\, Arial\, sans-serif\;">With the initiation of this new event there comes new&nbsp\;</span><span style="font-size: 17px\; color: rgb(0\, 0\, 0)\; font-family: Helvetica\, Arial\, sans-serif\; font-weight: bold\;">SPONSORSHIP OPPORTUNITIES</span><span style="font-size: 17px\; color: rgb(0\, 0\, 0)\; font-family: Helvetica\, Arial\, sans-serif\;">!</span></p>\n\n<p style="margin: 0px\; padding: 0px\; color: rgb(62\, 62\, 62)\; font-family: Arial\, Verdana\, Helvetica\, sans-serif\; font-size: 14px\; background-color: rgb(255\, 255\, 255)\;">&nbsp\;</p>\n\n<p style="margin: 0px\; padding: 0px\; color: rgb(62\, 62\, 62)\; font-family: Arial\, Verdana\, Helvetica\, sans-serif\; font-size: 14px\; background-color: rgb(255\, 255\, 255)\;"><span style="font-size: 17px\; color: rgb(0\, 0\, 0)\; font-family: Helvetica\, Arial\, sans-serif\;">We currently have these sponsorships available:</span></p>\n\n<p style="margin: 0px\; padding: 0px\; color: rgb(62\, 62\, 62)\; font-family: Arial\, Verdana\, Helvetica\, sans-serif\; font-size: 14px\; background-color: rgb(255\, 255\, 255)\;">&nbsp\;</p>\n\n<p style="margin: 0px\; padding: 0px\; color: rgb(62\, 62\, 62)\; font-family: Arial\, Verdana\, Helvetica\, sans-serif\; font-size: 14px\; background-color: rgb(255\, 255\, 255)\;"><span style="font-size: 17px\; color: rgb(0\, 0\, 0)\; font-family: Helvetica\, Arial\, sans-serif\;">Title Sponsor - $1\,000</span></p>\n\n<ul style="padding: 0px\; margin: 0px 0px 0px 40px\; color: rgb(62\, 62\, 62)\; font-family: Arial\, Verdana\, Helvetica\, sans-serif\; font-size: 14px\; background-color: rgb(255\, 255\, 255)\;">\n	<li style="padding: 0px\; margin: 0px\; font-size: 17px\; color: rgb(0\, 0\, 0)\;"><span style="font-family: Helvetica\, Arial\, sans-serif\;">Recognition on ALL marketing materials</span></li>\n	<li style="padding: 0px\; margin: 0px\; font-size: 17px\; color: rgb(0\, 0\, 0)\;"><span style="font-family: Helvetica\, Arial\, sans-serif\;">Recognition on ALL slideshows</span></li>\n	<li style="padding: 0px\; margin: 0px\; font-size: 17px\; color: rgb(0\, 0\, 0)\;"><span style="font-family: Helvetica\, Arial\, sans-serif\;">Recognition on the series social media posts</span></li>\n</ul>\n\n<p style="margin: 0px\; padding: 0px\; color: rgb(62\, 62\, 62)\; font-family: Arial\, Verdana\, Helvetica\, sans-serif\; font-size: 14px\; background-color: rgb(255\, 255\, 255)\;">&nbsp\;</p>\n\n<p style="margin: 0px\; padding: 0px\; color: rgb(62\, 62\, 62)\; font-family: Arial\, Verdana\, Helvetica\, sans-serif\; font-size: 14px\; background-color: rgb(255\, 255\, 255)\;"><span style="font-size: 17px\; color: rgb(0\, 0\, 0)\; font-family: Helvetica\, Arial\, sans-serif\;">Coffee Sponsor\, 3/3 available - $350</span></p>\n\n<ul style="padding: 0px\; margin: 0px 0px 0px 40px\; color: rgb(62\, 62\, 62)\; font-family: Arial\, Verdana\, Helvetica\, sans-serif\; font-size: 14px\; background-color: rgb(255\, 255\, 255)\;">\n	<li style="padding: 0px\; margin: 0px\; font-size: 17px\; color: rgb(0\, 0\, 0)\;"><span style="font-family: Helvetica\, Arial\, sans-serif\;">Ability to brand the coffee table area using your logo and other marketing material</span></li>\n	<li style="padding: 0px\; margin: 0px\; font-size: 17px\; color: rgb(0\, 0\, 0)\;"><span style="font-family: Helvetica\, Arial\, sans-serif\;">Recognition on slideshow</span></li>\n	<li style="padding: 0px\; margin: 0px\; font-size: 17px\; color: rgb(0\, 0\, 0)\;"><span style="font-family: Helvetica\, Arial\, sans-serif\;">Recognition on event webpage and social media</span></li>\n</ul>\n\n<p style="margin: 0px\; padding: 0px\; color: rgb(62\, 62\, 62)\; font-family: Arial\, Verdana\, Helvetica\, sans-serif\; font-size: 14px\; background-color: rgb(255\, 255\, 255)\;">&nbsp\;</p>\n\n<p style="margin: 0px\; padding: 0px\; color: rgb(62\, 62\, 62)\; font-family: Arial\, Verdana\, Helvetica\, sans-serif\; font-size: 14px\; background-color: rgb(255\, 255\, 255)\;"><span style="font-size: 17px\; color: rgb(0\, 0\, 0)\; font-family: Helvetica\, Arial\, sans-serif\;">Business Spotlight &amp\; Toast\, 3/3 available - $400</span></p>\n\n<ul style="padding: 0px\; margin: 0px 0px 0px 40px\; color: rgb(62\, 62\, 62)\; font-family: Arial\, Verdana\, Helvetica\, sans-serif\; font-size: 14px\; background-color: rgb(255\, 255\, 255)\;">\n	<li style="padding: 0px\; margin: 0px\; font-size: 17px\; color: rgb(0\, 0\, 0)\;"><span style="font-family: Helvetica\, Arial\, sans-serif\;">Ability to present a 2-minute business spotlight</span></li>\n	<li style="padding: 0px\; margin: 0px\; font-size: 17px\; color: rgb(0\, 0\, 0)\;"><span style="font-family: Helvetica\, Arial\, sans-serif\;">Recognition on slideshow</span></li>\n	<li style="padding: 0px\; margin: 0px\; font-size: 17px\; color: rgb(0\, 0\, 0)\;"><span style="font-family: Helvetica\, Arial\, sans-serif\;">Recognition on social media</span></li>\n</ul>\n\n<div style="padding: 0px\; margin: 0px\; font-size: 17px\; color: rgb(0\, 0\, 0)\;"><br />\n<span style="font-family: Helvetica\, Arial\, sans-serif\;">email info@s-rcchamber.org to claim a sponsorship!</span></div>\n
LOCATION:The Salem-Roanoke County Chamber of Commerce Office 611 E Main St.\, Salem
UID:e.1692.7756
SEQUENCE:3
DTSTAMP:20260424T015026Z
URL:https://member.s-rcchamber.org/events/details/spring-member-orientation-7756
END:VEVENT

END:VCALENDAR
