BEGIN:VCALENDAR
VERSION:2.0
PRODID:-//ChamberMaster//Event Calendar 2.0//EN
METHOD:PUBLISH
X-PUBLISHED-TTL:P3D
REFRESH-INTERVAL:P3D
CALSCALE:GREGORIAN
BEGIN:VEVENT
DTSTART:20251030T203000Z
DTEND:20251030T213000Z
X-MICROSOFT-CDO-ALLDAYEVENT:FALSE
SUMMARY:Trimble Company Ribbon Cutting
DESCRIPTION:Ribbon Cutting for our new Chamber Member!
X-ALT-DESC;FMTTYPE=text/html:Ribbon Cutting for our new Chamber Member!
LOCATION:1490 Southside Dr. Salem
UID:e.1692.7834
SEQUENCE:3
DTSTAMP:20260423T174004Z
URL:https://member.s-rcchamber.org/events/details/trimble-company-ribbon-cutting-7834
END:VEVENT

END:VCALENDAR
