BEGIN:VCALENDAR
VERSION:2.0
PRODID:-//ChamberMaster//Event Calendar 2.0//EN
METHOD:PUBLISH
X-PUBLISHED-TTL:P3D
REFRESH-INTERVAL:P3D
CALSCALE:GREGORIAN
BEGIN:VEVENT
DTSTART;VALUE=DATE:20250531
DTEND;VALUE=DATE:20250609
TRANSP:TRANSPARENT
X-MICROSOFT-CDO-ALLDAYEVENT:TRUE
SUMMARY:Virginia's Blue Ridge Restaurant Week
DESCRIPTION:Participating restaurants in the City of Roanoke\, City of Salem\, Town of Vinton\, Town of Rocky Mount\, Botetourt County\, Franklin County\, and Roanoke County\n\nIt's time for a culinary metro mountain adventure in the Roanoke Region in Virginia's Blue Ridge! The VBR Restaurant Week will feature exciting menus and specials from participating restaurants throughout Virginia's Blue Ridge\, which includes the cities of Roanoke and Salem\, the towns of Vinton\, Rocky Mount\, and Boones Mill\, and the counties of Botetourt\, Franklin\, and Roanoke.\n\nVBR Restaurant Week is a celebration of local flavors\, offering participants a unique opportunity to enjoy special menus\, discounts\, and promotions at participating restaurants. From fine dining to casual eats\, the event will highlight the diverse range of culinary offerings in the region\, while also supporting local businesses and the community.\n\nSo come hungry\, bring friends\, and let's all toast to a new tradition of taste in the Blue Ridge Mountains.
X-ALT-DESC;FMTTYPE=text/html:<h3 style="box-sizing: border-box\; margin: 0.2rem 0px 0.5rem\; padding: 0px\; font-family: &quot\;Trade Gothic LT W01 Bd Cn No-2&quot\;\; color: rgb(0\, 65\, 101)\; text-rendering: optimizelegibility\; line-height: 2.875rem\; font-size: 1.875rem\; text-align: center\;"><em style="box-sizing: border-box\; line-height: inherit\;">Participating restaurants in the City of Roanoke\, City of Salem\, Town of Vinton\, Town of Rocky Mount\, Botetourt County\, Franklin County\, and Roanoke County</em></h3>\n\n<p style="box-sizing: border-box\; margin: 0px 0px 1.25rem\; padding: 0px\; font-family: &quot\;Trade Gothic LT W01 Light&quot\;\, Tahoma\, Arial\; font-size: 18px\; line-height: 28px\; text-rendering: optimizelegibility\; letter-spacing: 0.02em\; color: rgb(57\, 57\, 57)\; text-align: center\;"><span style="font-size:14px\;">It&#39\;s time for a culinary metro mountain adventure in the&nbsp\;<a data-sv-linklookup-id="5506f56cd440664661f3810b" data-sv-linklookup-type="plugins_nav_navitem_primary_main" data-sv-targetauto="true" href="https://www.visitroanokeva.com/region/cities-and-counties/roanoke/" style="box-sizing: border-box\; background-color: transparent\; color: rgb(0\, 151\, 167)\; text-decoration-line: none\; line-height: inherit\;" target="_self">Roanoke Region</a>&nbsp\;in Virginia&#39\;s Blue Ridge! The VBR Restaurant Week will feature exciting menus and specials from participating&nbsp\;<a data-sv-linklookup-id="5503280a797d19c02090aa75" data-sv-linklookup-type="plugins_nav_navitem_primary_main" data-sv-targetauto="true" href="https://www.visitroanokeva.com/restaurants/" style="box-sizing: border-box\; background-color: transparent\; color: rgb(0\, 151\, 167)\; text-decoration-line: none\; line-height: inherit\;" target="_self">restaurants throughout Virginia&#39\;s Blue Ridge</a>\, which includes the cities of Roanoke and Salem\, the towns of&nbsp\;<a data-sv-linklookup-id="552c25f70d8b7b2367ac614f" data-sv-linklookup-type="plugins_nav_navitem_primary_main" data-sv-targetauto="true" href="https://www.visitroanokeva.com/region/cities-and-counties/roanoke-county/town-of-vinton/" style="box-sizing: border-box\; background-color: transparent\; color: rgb(0\, 151\, 167)\; text-decoration-line: none\; line-height: inherit\;" target="_self">Vinton</a>\,&nbsp\;<a data-sv-linklookup-id="603572bcd5ae854510951689" data-sv-linklookup-type="plugins_nav_navitem_primary_main" data-sv-targetauto="true" href="https://www.visitroanokeva.com/region/cities-and-counties/franklin-county/rocky-mount/" style="box-sizing: border-box\; background-color: transparent\; color: rgb(0\, 151\, 167)\; text-decoration-line: none\; line-height: inherit\;" target="_self">Rocky Mount</a>\, and Boones Mill\,&nbsp\;and the counties of&nbsp\;<a data-sv-linklookup-id="5506f587d440664661f38151" data-sv-linklookup-type="plugins_nav_navitem_primary_main" data-sv-targetauto="true" href="https://www.visitroanokeva.com/region/cities-and-counties/botetourt-county/" style="box-sizing: border-box\; background-color: transparent\; color: rgb(0\, 151\, 167)\; text-decoration-line: none\; line-height: inherit\;" target="_self">Botetourt</a>\,&nbsp\;<a data-sv-linklookup-id="5506f58fd440664661f38174" data-sv-linklookup-type="plugins_nav_navitem_primary_main" data-sv-targetauto="true" href="https://www.visitroanokeva.com/region/cities-and-counties/franklin-county/" style="box-sizing: border-box\; background-color: transparent\; color: rgb(0\, 151\, 167)\; text-decoration-line: none\; line-height: inherit\;" target="_self">Franklin</a>\, and&nbsp\;<a data-sv-linklookup-id="5506f598d440664661f38197" data-sv-linklookup-type="plugins_nav_navitem_primary_main" data-sv-targetauto="true" href="https://www.visitroanokeva.com/region/cities-and-counties/roanoke-county/" style="box-sizing: border-box\; background-color: transparent\; color: rgb(0\, 151\, 167)\; text-decoration-line: none\; line-height: inherit\;" target="_self">Roanoke</a>.</span></p>\n\n<p style="box-sizing: border-box\; margin: 0px 0px 1.25rem\; padding: 0px\; font-family: &quot\;Trade Gothic LT W01 Light&quot\;\, Tahoma\, Arial\; font-size: 18px\; line-height: 28px\; text-rendering: optimizelegibility\; letter-spacing: 0.02em\; color: rgb(57\, 57\, 57)\; text-align: center\;"><span style="font-size:14px\;">VBR Restaurant Week is a celebration of local flavors\, offering participants a unique opportunity to enjoy special menus\, discounts\, and promotions at participating restaurants. From fine dining to casual eats\, the event will highlight the diverse range of culinary offerings in the region\, while also supporting local businesses and the community.</span></p>\n\n<p style="box-sizing: border-box\; margin: 0px 0px 1.25rem\; padding: 0px\; font-family: &quot\;Trade Gothic LT W01 Light&quot\;\, Tahoma\, Arial\; font-size: 18px\; line-height: 28px\; text-rendering: optimizelegibility\; letter-spacing: 0.02em\; color: rgb(57\, 57\, 57)\; text-align: center\;"><span style="font-size:14px\;">So come hungry\, bring friends\, and let&#39\;s all toast to a new tradition of taste in the Blue Ridge Mountains.</span></p>\n
LOCATION:
UID:e.1692.7761
SEQUENCE:3
DTSTAMP:20260423T224843Z
URL:https://member.s-rcchamber.org/events/details/virginia-s-blue-ridge-restaurant-week-7761
END:VEVENT

END:VCALENDAR
